BEGIN:VCALENDAR
VERSION:2.0
PRODID:-//ChamberMaster//Event Calendar 2.0//EN
METHOD:PUBLISH
X-PUBLISHED-TTL:P3D
REFRESH-INTERVAL:P3D
CALSCALE:GREGORIAN
BEGIN:VEVENT
DTSTART:20120816T230000Z
DTEND:20120817T003000Z
X-MICROSOFT-CDO-ALLDAYEVENT:FALSE
SUMMARY:Concerts On The Lawn
DESCRIPTION:Bring your lawn chairs or blankets and join us for the final Sanders Glen Concert on the Lawn this summer!\n\nTommy Wills Little Big Band will entertain beginning at 7:00 pm Thursday\, Aug. 16th on our large front lawn. Bring your family and invite the neighbors for a FREE summer concert!
X-ALT-DESC;FMTTYPE=text/html:Bring your lawn chairs or blankets and join us for the final Sanders Glen Concert on the Lawn this summer!<br />\nTommy Wills Little Big Band will entertain beginning at 7:00 pm Thursday\, Aug. 16th on our large front lawn. Bring your family and invite the neighbors for a FREE summer concert!
LOCATION:Sanders Glen Assisted Living Community\, 334 S. Cherry St.\, Westfield\, IN 46074
UID:e.1538.329
SEQUENCE:3
DTSTAMP:20260420T190204Z
URL:https://business.noblesvillechamber.com/events/details/concerts-on-the-lawn-329
END:VEVENT

END:VCALENDAR
