BEGIN:VCALENDAR
VERSION:2.0
PRODID:-//ChamberMaster//Event Calendar 2.0//EN
METHOD:PUBLISH
X-PUBLISHED-TTL:P3D
REFRESH-INTERVAL:P3D
CALSCALE:GREGORIAN
BEGIN:VEVENT
DTSTART:20110625T223000Z
DTEND:20110625T223000Z
X-MICROSOFT-CDO-ALLDAYEVENT:FALSE
SUMMARY:Conner Prairie Alliance and Symphony on the Prairie
DESCRIPTION:Join the Conner Prairie Alliance for a picnic\nand opening night of Symphony on the Prairie:\nAmerican Landscapes Saturday\, June 25th\nat Conner Prairie\n\n6:30 p.m.  Picnic on the Prairie\nMeet Alliance members and learn about\nmembership in our dynamic organization!\n\n8:00 p.m.  American Landscapes\nThe opening night program to kick off the\n30th anniversary Symphony on the Prairie season\nwill feature conductor Edwin Outwater\nand the Indianapolis Symphony Orchestra\nperforming popular American classical music favorites by Aaron Copland\, George Gershwin\,\nSamuel Barber and Leonard Bernstein
X-ALT-DESC;FMTTYPE=text/html:Join the Conner Prairie Alliance for a picnic\nand opening night of Symphony on the Prairie:\nAmerican Landscapes Saturday\, June 25th\nat Conner Prairie\n\n6:30 p.m.  Picnic on the Prairie\nMeet Alliance members and learn about\nmembership in our dynamic organization!\n\n8:00 p.m.  American Landscapes\nThe opening night program to kick off the\n30th anniversary Symphony on the Prairie season\nwill feature conductor Edwin Outwater\nand the Indianapolis Symphony Orchestra\nperforming popular American classical music favorites by Aaron Copland\, George Gershwin\,\nSamuel Barber and Leonard Bernstein\n\n
LOCATION:Conner Prairie
UID:e.1538.176
SEQUENCE:3
DTSTAMP:20260421T172805Z
URL:https://business.noblesvillechamber.com/events/details/conner-prairie-alliance-and-symphony-on-the-prairie-06-25-2011-176
END:VEVENT

END:VCALENDAR
