BEGIN:VCALENDAR
VERSION:2.0
PRODID:-//ChamberMaster//Event Calendar 2.0//EN
METHOD:PUBLISH
X-PUBLISHED-TTL:P3D
REFRESH-INTERVAL:P3D
CALSCALE:GREGORIAN
BEGIN:VEVENT
DTSTART:20110426T130000Z
DTEND:20110427T023000Z
X-MICROSOFT-CDO-ALLDAYEVENT:FALSE
SUMMARY:Conner Prairie Alliance General Meeting and Fireside Chat
DESCRIPTION:Please join the members of the Conner Prairie Alliance on Tuesday\, April 26th at 9:00a.m. in The Over Look for our General Meeting and Fireside Chat. Learn about membership in out organization and get a preview of the 1863 Civil War Journey: Raid on Indiana\, opening at Conner Prairie on June 4th! Cathy Feree\, Senior Director of Strategic Planning and Dan Freas\, Vice President of Guest Experience\, will preview the exhibit\, focusing on history\, stories and characters that make the experience. \n\nLight refreshments will be served\, followed by a short business meeting and the presentation. Please RSVP to alliance@connerprairie.org or 317.776.6011.
X-ALT-DESC;FMTTYPE=text/html:Please join the members of the Conner Prairie Alliance on Tuesday\, April 26th at 9:00a.m. in The Over Look for our General Meeting and Fireside Chat. Learn about membership in out organization and get a preview of the 1863 Civil War Journey: Raid on Indiana\, opening at Conner Prairie on June 4th! Cathy Feree\, Senior Director of Strategic Planning and Dan Freas\, Vice President of Guest Experience\, will preview the exhibit\, focusing on history\, stories and characters that make the experience. \n\nLight refreshments will be served\, followed by a short business meeting and the presentation. Please RSVP to alliance@connerprairie.org or 317.776.6011. 
LOCATION:Conner Prairie Overlook Room
UID:e.1538.165
SEQUENCE:3
DTSTAMP:20260421T204133Z
URL:https://business.noblesvillechamber.com/events/details/conner-prairie-alliance-general-meeting-and-fireside-chat-04-26-2011-165
END:VEVENT

END:VCALENDAR
