BEGIN:VCALENDAR
VERSION:2.0
PRODID:-//ChamberMaster//Event Calendar 2.0//EN
METHOD:PUBLISH
X-PUBLISHED-TTL:P3D
REFRESH-INTERVAL:P3D
CALSCALE:GREGORIAN
BEGIN:VEVENT
DTSTART:20110510T150000Z
DTEND:20110510T210000Z
X-MICROSOFT-CDO-ALLDAYEVENT:FALSE
SUMMARY:Conner Prairie Golf Classic
DESCRIPTION:Join us for the Conner Prairie Golf Classic on Tuesday\, May 10 at the beautiful Prairie View Golf Club\, in Carmel on the banks of the White River. Proceeds from this event help to underwrite the cost of school childrens' visits to Conner Prairie. New this year: Introducing two formats of play - Focused Flight for those who want to test their skills against the course\, and Fun Flight for those who just want to have fun. Prizes will be given in each Flight.
X-ALT-DESC;FMTTYPE=text/html:Join us for the Conner Prairie Golf Classic on Tuesday\, May 10 at the beautiful Prairie View Golf Club\, in Carmel on the banks of the White River. Proceeds from this event help to underwrite the cost of school childrens' visits to Conner Prairie. New this year: Introducing two formats of play - Focused Flight for those who want to test their skills against the course\, and Fun Flight for those who just want to have fun. Prizes will be given in each Flight.\n\n\n
LOCATION:From Downtown: Take 465 North to Keystone Ave. turn right(north) onto Keystone Ave. Take Keystone to Main Street(131st street). Turn right and go east 4 miles to the second circle or roundabout. Once on the circle go to the second street which will be Longest Drive. Turn right and follow that to the club. From Noblesville: Take 37 South to 146th Street. Turn right (west) on 146th Street to River Road (1st stoplight after the bridge) and turn Left (south). Follow River Road down to the roundabout (traffic circle). Turn right on 3rd spoke which is Longest Drive and follow that to the club.
UID:e.1538.167
SEQUENCE:3
DTSTAMP:20260421T185601Z
URL:https://business.noblesvillechamber.com/events/details/conner-prairie-golf-classic-05-10-2011-167
END:VEVENT

END:VCALENDAR
