BEGIN:VCALENDAR
VERSION:2.0
PRODID:-//ChamberMaster//Event Calendar 2.0//EN
METHOD:PUBLISH
X-PUBLISHED-TTL:P3D
REFRESH-INTERVAL:P3D
CALSCALE:GREGORIAN
BEGIN:VEVENT
DTSTART:20120622T230000Z
DTEND:20120622T040000Z
X-MICROSOFT-CDO-ALLDAYEVENT:FALSE
SUMMARY:Cool Creek Concert Series Presented by: St. Vincent Carmel Hospital "ESB"
DESCRIPTION:The 2012 Cool Creek Concert Series ''in concert with nature''\n\nPresented by St. Vincent Carmel Hospital www.stvincent.org with support from Legacy Fund Community Foundation\, a CICF affiliate \n\nFriday\, June 22\, Hamilton County Parks Department will host ESB in our second concert of the 2012 Cool Creek Concert Series.  Come and bring the family to enjoy their variety of music with audience participation.  Make plans to join in the fun and good times Friday\, June 15th and select Fridays throughout June and July as other great musical artists take the stage – like ESB\, The Hillbenders\, The Late Show and Zanna Doo!  See you there!\n\nGates open at 6:00 PM \nConcert starts at 7:00 PM\n\nCool Creek Park: 2000 East 151st Street\, Carmel/Westfield\, IN 46033\n\nAdmission: Only $5 for adults.  FREE for children under 12
X-ALT-DESC;FMTTYPE=text/html:The 2012 Cool Creek Concert Series ''in concert with nature''\n\nPresented by St. Vincent Carmel Hospital www.stvincent.org with support from Legacy Fund Community Foundation\, a CICF affiliate \n\nFriday\, June 22\, Hamilton County Parks Department will host ESB in our second concert of the 2012 Cool Creek Concert Series.  Come and bring the family to enjoy their variety of music with audience participation.  Make plans to join in the fun and good times Friday\, June 15th and select Fridays throughout June and July as other great musical artists take the stage – like ESB\, The Hillbenders\, The Late Show and Zanna Doo!  See you there!\n\nGates open at 6:00 PM \nConcert starts at 7:00 PM\n\nCool Creek Park: 2000 East 151st Street\, Carmel/Westfield\, IN 46033\n\nAdmission: Only $5 for adults.  FREE for children under 12\n\n
LOCATION:Cool Creek Park
UID:e.1538.306
SEQUENCE:3
DTSTAMP:20260420T221715Z
URL:https://business.noblesvillechamber.com/events/details/cool-creek-concert-series-presented-by-st-vincent-carmel-hospital-esb-06-22-2012-306
END:VEVENT

END:VCALENDAR
