BEGIN:VCALENDAR
VERSION:2.0
PRODID:-//ChamberMaster//Event Calendar 2.0//EN
METHOD:PUBLISH
X-PUBLISHED-TTL:P3D
REFRESH-INTERVAL:P3D
CALSCALE:GREGORIAN
BEGIN:VEVENT
DTSTART:20120615T230000Z
DTEND:20120615T040000Z
X-MICROSOFT-CDO-ALLDAYEVENT:FALSE
SUMMARY:Cool Creek Concert Series Presented by: St. Vincent Carmel Hospital "PolkaBoy"
DESCRIPTION:The 2012 Cool Creek Concert Series ''in concert with nature''\n\nPresented by St. Vincent Carmel Hospital www.stvincent.org with support from Legacy Fund Community Foundation\, a CICF affiliate \n\nFriday\, June 15\, Hamilton County Parks Department will host PolkaBoy in concert at the kick-off of the 2012 Cool Creek Concert Series.  Come and bring the family to enjoy their traditional polka sound and clever arrangements of pop standards like ''I Can't Take My Eyes Off Of You'' and many others.  Make plans to join in the fun and good times Friday\, June 15th and select Fridays throughout June and July as other great musical artists take the stage – like ESB\, The Hillbenders\, The Late Show and Zanna Doo!  See you there!\n\nGates open at 6:00 PM \nConcert starts at 7:00 PM\n\nCool Creek Park: 2000 East 151st Street\, Carmel/Westfield\, IN 46033\n\nAdmission: Only $5 for adults.  FREE for children under 12
X-ALT-DESC;FMTTYPE=text/html:The 2012 Cool Creek Concert Series ''in concert with nature''\n\nPresented by St. Vincent Carmel Hospital www.stvincent.org with support from Legacy Fund Community Foundation\, a CICF affiliate \n\nFriday\, June 15\, Hamilton County Parks Department will host PolkaBoy in concert at the kick-off of the 2012 Cool Creek Concert Series.  Come and bring the family to enjoy their traditional polka sound and clever arrangements of pop standards like ''I Can't Take My Eyes Off Of You'' and many others.  Make plans to join in the fun and good times Friday\, June 15th and select Fridays throughout June and July as other great musical artists take the stage – like ESB\, The Hillbenders\, The Late Show and Zanna Doo!  See you there!\n\nGates open at 6:00 PM \nConcert starts at 7:00 PM\n\nCool Creek Park: 2000 East 151st Street\, Carmel/Westfield\, IN 46033\n\nAdmission: Only $5 for adults.  FREE for children under 12\n\n
LOCATION:Cool Creek Park
UID:e.1538.305
SEQUENCE:3
DTSTAMP:20260420T221842Z
URL:https://business.noblesvillechamber.com/events/details/cool-creek-concert-series-presented-by-st-vincent-carmel-hospital-polkaboy-06-15-2012-305
END:VEVENT

END:VCALENDAR
