BEGIN:VCALENDAR
VERSION:2.0
PRODID:-//ChamberMaster//Event Calendar 2.0//EN
METHOD:PUBLISH
X-PUBLISHED-TTL:P3D
REFRESH-INTERVAL:P3D
CALSCALE:GREGORIAN
BEGIN:VEVENT
DTSTART:20120629T230000Z
DTEND:20120629T040000Z
X-MICROSOFT-CDO-ALLDAYEVENT:FALSE
SUMMARY:Cool Creek Concert Series Presented by: St. Vincent Health "The HillBenders"
DESCRIPTION:The 2012 Cool Creek Concert Series ''in concert with nature''\n\nPresented by St. Vincent Carmel Hospital www.stvincent.org with support from Legacy Fund Community Foundation\, a CICF affiliate \n\nFriday\, June 29\, Hamilton County Parks Department will host The HillBenders in our third concert the 2012 Cool Creek Concert Series.  Come and bring the family to enjoy The HillBenders combine the traditions of bluegrass with a diversity of influences creating a sound unlike any you've heard before.  Make plans to join in the fun and good times Friday\, June 29nd. See you there!\n\nGates open at 6:00 PM \nConcert starts at 7:00 PM\n\nCool Creek Park: 2000 East 151st Street\, Carmel/Westfield\, IN 46033\n\nAdmission: Only $5 for adults.  FREE for children under 12
X-ALT-DESC;FMTTYPE=text/html:The 2012 Cool Creek Concert Series ''in concert with nature''\n\nPresented by St. Vincent Carmel Hospital www.stvincent.org with support from Legacy Fund Community Foundation\, a CICF affiliate \n\nFriday\, June 29\, Hamilton County Parks Department will host The HillBenders in our third concert the 2012 Cool Creek Concert Series.  Come and bring the family to enjoy The HillBenders combine the traditions of bluegrass with a diversity of influences creating a sound unlike any you've heard before.  Make plans to join in the fun and good times Friday\, June 29nd. See you there!\n\nGates open at 6:00 PM \nConcert starts at 7:00 PM\n\nCool Creek Park: 2000 East 151st Street\, Carmel/Westfield\, IN 46033\n\nAdmission: Only $5 for adults.  FREE for children under 12\n\n
LOCATION:Cool Creek Park
UID:e.1538.296
SEQUENCE:3
DTSTAMP:20260420T222030Z
URL:https://business.noblesvillechamber.com/events/details/cool-creek-concert-series-presented-by-st-vincent-health-the-hillbenders-06-29-2012-296
END:VEVENT

END:VCALENDAR
