BEGIN:VCALENDAR
VERSION:2.0
PRODID:-//ChamberMaster//Event Calendar 2.0//EN
METHOD:PUBLISH
X-PUBLISHED-TTL:P3D
REFRESH-INTERVAL:P3D
CALSCALE:GREGORIAN
BEGIN:VEVENT
DTSTART:20120720T230000Z
DTEND:20120720T040000Z
X-MICROSOFT-CDO-ALLDAYEVENT:FALSE
SUMMARY:Cool Creek Concert Series Presented by: St. Vincent Health "Zanna Doo"
DESCRIPTION:The 2012 Cool Creek Concert Series ''in concert with nature''\n\nPresented by St. Vincent Carmel Hospital www.stvincent.org with support from Legacy Fund Community Foundation\, a CICF affiliate \n\nFriday\, July 20\, Hamilton County Parks Department will host Zanna Doo for our final concert the 2012 Cool Creek Concert Series.  Come and bring the family to enjoy theThe encyclopedic cover band bringing soulful vocals and rock solid beats spanning genres of Rock\, Disco\, Motown\, Retro\, 90's and current top 40 hits.  Make plans to join in the fun and good times Friday\, July 20th. See you there!\n\nGates open at 6:00 PM \nConcert starts at 7:00 PM\n\nCool Creek Park: 2000 East 151st Street\, Carmel/Westfield\, IN 46033\n\nAdmission: Only $5 for adults.  FREE for children under 12
X-ALT-DESC;FMTTYPE=text/html:The 2012 Cool Creek Concert Series ''in concert with nature''\n\nPresented by St. Vincent Carmel Hospital www.stvincent.org with support from Legacy Fund Community Foundation\, a CICF affiliate \n\nFriday\, July 20\, Hamilton County Parks Department will host Zanna Doo for our final concert the 2012 Cool Creek Concert Series.  Come and bring the family to enjoy theThe encyclopedic cover band bringing soulful vocals and rock solid beats spanning genres of Rock\, Disco\, Motown\, Retro\, 90's and current top 40 hits.  Make plans to join in the fun and good times Friday\, July 20th. See you there!\n\nGates open at 6:00 PM \nConcert starts at 7:00 PM\n\nCool Creek Park: 2000 East 151st Street\, Carmel/Westfield\, IN 46033\n\nAdmission: Only $5 for adults.  FREE for children under 12\n\n
LOCATION:Cool Creek Park
UID:e.1538.292
SEQUENCE:3
DTSTAMP:20260420T203947Z
URL:https://business.noblesvillechamber.com/events/details/cool-creek-concert-series-presented-by-st-vincent-health-zanna-doo-07-20-2012-292
END:VEVENT

END:VCALENDAR
