BEGIN:VCALENDAR
VERSION:2.0
PRODID:-//ChamberMaster//Event Calendar 2.0//EN
METHOD:PUBLISH
X-PUBLISHED-TTL:P3D
REFRESH-INTERVAL:P3D
CALSCALE:GREGORIAN
BEGIN:VEVENT
DTSTART:20100918T140000Z
DTEND:20100919T210000Z
X-MICROSOFT-CDO-ALLDAYEVENT:FALSE
SUMMARY:Country Fair
DESCRIPTION:Discover what an authentic country fair was like when your great grandparents were kids. You'll be thrilled and amazed by the games they played and odd wonders that made them gawk and giggle. Grab your family and friends and experience a 19th-century agricultural fair firsthand when you head for Conner Prairie's Country Fair. Saturday\, Sept. 18\, 10 a.m.-5 p.m. and Sunday\, Sept. 19\, 11 a.m.-5 p.m. Admission is $13/adults\, $12/seniors 65+\, $9/youth (ages 2-12)\, free for members and youth under 2. Call 317.776.6006 or visit connerprairie.org for more information.
X-ALT-DESC;FMTTYPE=text/html:Discover what an authentic country fair was like when your great grandparents were kids. You'll be thrilled and amazed by the games they played and odd wonders that made them gawk and giggle. Grab your family and friends and experience a 19th-century agricultural fair firsthand when you head for Conner Prairie's Country Fair. Saturday\, Sept. 18\, 10 a.m.-5 p.m. and Sunday\, Sept. 19\, 11 a.m.-5 p.m. Admission is $13/adults\, $12/seniors 65+\, $9/youth (ages 2-12)\, free for members and youth under 2. Call 317.776.6006 or visit connerprairie.org for more information.
LOCATION:Conner Prairie Interactive History Park
UID:e.1538.60
SEQUENCE:3
DTSTAMP:20260422T075822Z
URL:https://business.noblesvillechamber.com/events/details/country-fair-09-18-2010-60
END:VEVENT

END:VCALENDAR
