BEGIN:VCALENDAR
VERSION:2.0
PRODID:-//ChamberMaster//Event Calendar 2.0//EN
METHOD:PUBLISH
X-PUBLISHED-TTL:P3D
REFRESH-INTERVAL:P3D
CALSCALE:GREGORIAN
BEGIN:VEVENT
DTSTART:20120426T200000Z
DTEND:20120426T230000Z
X-MICROSOFT-CDO-ALLDAYEVENT:FALSE
SUMMARY:Criminal Justice Odyssey
DESCRIPTION:Noblesville\, IN—Prevail\, a Hamilton County-based not for profit organization advocating for victims of crime and abuse\, will host an open house\, ''Criminal Justice Odyssey 2012\,'' in observance of National Crime Victims' Rights Week on Thursday\, April 26 from 4 to 7 p.m. at Prevail\, Inc.\, 1100 S. 9th Street\, Noblesville\, Ind.  This year's theme for National Crime Victims' Rights Week is ''Extending the Vision\, Reaching Every Victim.''\n\nThe open house is free-of-charge and will include tours of Prevail\, Inc. Community partners will offer information related to law enforcement\, medical and criminal justice services. Light refreshments will be provided\, and one lucky winner will receive a door prize. \n\nFor more information about Criminal Justice Odyssey 2012\, please contact Prevail\, Inc. at (317) 773-6942 or visit http://www.prevailinc.com.
X-ALT-DESC;FMTTYPE=text/html:Noblesville\, IN—Prevail\, a Hamilton County-based not for profit organization advocating for victims of crime and abuse\, will host an open house\, ''Criminal Justice Odyssey 2012\,'' in observance of National Crime Victims' Rights Week on Thursday\, April 26 from 4 to 7 p.m. at Prevail\, Inc.\, 1100 S. 9th Street\, Noblesville\, Ind.  This year's theme for National Crime Victims' Rights Week is ''Extending the Vision\, Reaching Every Victim.''\n\nThe open house is free-of-charge and will include tours of Prevail\, Inc. Community partners will offer information related to law enforcement\, medical and criminal justice services. Light refreshments will be provided\, and one lucky winner will receive a door prize. \n\nFor more information about Criminal Justice Odyssey 2012\, please contact Prevail\, Inc. at (317) 773-6942 or visit http://www.prevailinc.com.\n
LOCATION:Prevail\, Inc.\, 1100 S. 9th Street\, Noblesville\, Ind.
UID:e.1538.260
SEQUENCE:3
DTSTAMP:20260421T012249Z
URL:https://business.noblesvillechamber.com/events/details/criminal-justice-odyssey-04-26-2012-260
END:VEVENT

END:VCALENDAR
