BEGIN:VCALENDAR
VERSION:2.0
PRODID:-//ChamberMaster//Event Calendar 2.0//EN
METHOD:PUBLISH
X-PUBLISHED-TTL:P3D
REFRESH-INTERVAL:P3D
CALSCALE:GREGORIAN
BEGIN:VEVENT
DTSTART:20111008T140000Z
DTEND:20111008T140000Z
X-MICROSOFT-CDO-ALLDAYEVENT:FALSE
SUMMARY:Dance! Lenape Indian Traditions
DESCRIPTION:Join members of the Lenape Tribe from Oklahoma as they bring to life their cultural and dance traditions. Experience a combination of Pow Wow and Social Dances as you feel the beat of the drum. Guests will be invited to participate in some dances. Admission is $14/adults\, $13/seniors 65+\, $9/youth (ages 2-12)\; free for members and youth under 2. Call 317.776.6006 or visit connerprairie.org for more information.
X-ALT-DESC;FMTTYPE=text/html:\nJoin members of the Lenape Tribe from Oklahoma as they bring to life their cultural and dance traditions. Experience a combination of Pow Wow and Social Dances as you feel the beat of the drum. Guests will be invited to participate in some dances. Admission is $14/adults\, $13/seniors 65+\, $9/youth (ages 2-12)\; free for members and youth under 2. Call 317.776.6006 or visit connerprairie.org for more information.
LOCATION:Conner Prairie
UID:e.1538.201
SEQUENCE:3
DTSTAMP:20260421T112608Z
URL:https://business.noblesvillechamber.com/events/details/dance-lenape-indian-traditions-10-08-2011-201
END:VEVENT

END:VCALENDAR
