BEGIN:VCALENDAR
VERSION:2.0
PRODID:-//ChamberMaster//Event Calendar 2.0//EN
METHOD:PUBLISH
X-PUBLISHED-TTL:P3D
REFRESH-INTERVAL:P3D
CALSCALE:GREGORIAN
BEGIN:VEVENT
DTSTART:20100918T180000Z
DTEND:20100918T220000Z
X-MICROSOFT-CDO-ALLDAYEVENT:FALSE
SUMMARY:Digging through the Past\, Building to the Future
DESCRIPTION:A fundraiser for Hamilton County Parks with Music\, Food\, Vendors\, Live animals and a Kid's Area!!
X-ALT-DESC;FMTTYPE=text/html:A fundraiser for Hamilton County Parks with Music\, Food\, Vendors\, Live animals and a Kid's Area!! 
LOCATION:Strawtown Koteewi Park 12308 E. Strawtown Ave.\, Noblesville\, IN 46060 Just North of Noblesville!
UID:e.1538.58
SEQUENCE:3
DTSTAMP:20260422T092651Z
URL:https://business.noblesvillechamber.com/events/details/digging-through-the-past-building-to-the-future-09-18-2010-58
END:VEVENT

END:VCALENDAR
