BEGIN:VCALENDAR
VERSION:2.0
PRODID:-//ChamberMaster//Event Calendar 2.0//EN
METHOD:PUBLISH
X-PUBLISHED-TTL:P3D
REFRESH-INTERVAL:P3D
CALSCALE:GREGORIAN
BEGIN:VEVENT
DTSTART:20130928T200000Z
DTEND:20130929T000000Z
X-MICROSOFT-CDO-ALLDAYEVENT:FALSE
SUMMARY:Digging through the Past\; Building to the Future
DESCRIPTION:Join us for the archaeology event that's as entertaining as it is educational. Along with park tours\, Archaeology Month programs\, and artifact identification\, guests will be able to enjoy engaging performances by American Indian musicians\, wagon rides\, arts and crafts\, and a host of activities for everyone in the family. Bring your appetite along\, because you'll be able to purchase an actual bison burger...as well as less exotic eats! A variety of vendors will be offering quality handcrafted items\, ranging from fine fashion accessories to custom housewares - all in one of the most beautiful settings in Hamilton County. Digging through the Past\; Building to the Future offers FREE programming and activities the whole family will surely dig!\n\n	 \n\n	FREE / Pre-registration NOT required\n\n	For more information\, please call 317-770-4400 or check our website at www.myhamiltoncountyparks.com\n\n	Interested in sponsoring or exhibiting at this event? Call 317-770-4400 for details.
X-ALT-DESC;FMTTYPE=text/html:<p class="MsoNormal" style="line-height: normal\; margin: 0in 0in 0pt">\n	<span lang="EN" style="mso-ansi-language: EN"><font color="#000000"><font size="3"><font face="Calibri">Join us for the archaeology event that&#39\;s as entertaining as it is educational. Along with park tours\, Archaeology Month programs\, and artifact identification\, guests will be able to enjoy engaging performances by American Indian musicians\, wagon rides\, arts and crafts\, and a host of activities for everyone in the family. Bring your appetite along\, because you&#39\;ll be able to purchase an actual bison burger...as well as less exotic eats! A variety of vendors will be offering quality handcrafted items\, ranging from fine fashion accessories to custom housewares - all in one of the most beautiful settings in Hamilton County. Digging through the Past\; Building to the Future offers FREE programming and activities the whole family will surely dig!<o:p></o:p></font></font></font></span></p>\n<p class="MsoNormal" style="line-height: normal\; margin: 0in 0in 0pt">\n	<span lang="EN" style="mso-ansi-language: EN"><o:p><font color="#000000" face="Calibri" size="3">&nbsp\;</font></o:p></span></p>\n<p class="MsoNormal" style="line-height: normal\; margin: 0in 0in 0pt">\n	<b><span lang="EN" style="mso-ansi-language: EN"><font color="#000000" face="Calibri" size="3">FREE </font></span></b><span lang="EN" style="mso-ansi-language: EN"><font color="#000000" face="Calibri" size="3">/ </font><font color="#000000"><font size="3"><font face="Calibri"><b>Pre-registration NOT required</b><br />\n	For more information\, please call 317-770-4400 or check our website at </font></font></font></span><a href="http://www.myhamiltoncountyparks.com/"><i><span lang="EN" style="mso-ansi-language: EN"><font face="Calibri" size="3">www.myhamiltoncountyparks.com</font></span></i></a><span lang="EN" style="mso-ansi-language: EN"><o:p></o:p></span></p>\n<p class="MsoNormal" style="line-height: normal\; margin: 0in 0in 0pt">\n	<span lang="EN" style="mso-ansi-language: EN"><font size="3"><font color="#000000"><font face="Calibri">Interested in sponsoring or exhibiting at this event? Call 317-770-4400 for details.<o:p></o:p></font></font></font></span></p>\n
LOCATION:Strawtown Koteewi Park 12308 E Strawtown Ave Noblesville\, IN 46060
UID:e.1538.502
SEQUENCE:3
DTSTAMP:20260419T231455Z
URL:https://business.noblesvillechamber.com/events/details/digging-through-the-past-building-to-the-future-502
END:VEVENT

END:VCALENDAR
