BEGIN:VCALENDAR
VERSION:2.0
PRODID:-//ChamberMaster//Event Calendar 2.0//EN
METHOD:PUBLISH
X-PUBLISHED-TTL:P3D
REFRESH-INTERVAL:P3D
CALSCALE:GREGORIAN
BEGIN:VEVENT
DTSTART:20110913T133000Z
DTEND:20110913T153000Z
X-MICROSOFT-CDO-ALLDAYEVENT:FALSE
SUMMARY:Discover the Conner Prairie Alliance
DESCRIPTION:You may have seen the Conner Prairie Alliance signs in Discovery Station\, Animal Encounters and\n1859 Balloon Voyage\, recognizing our group for its contributions to those experiences.\n\nYou may have visited The Apple Store\,\noperated every fall since 1985 by the women of the Alliance.\n\nBut what is the Conner Prairie Alliance?\n\nWe are a volunteer organization of nearly 100 women who are dedicated to supporting Conner Prairie through creative fundraising\, primarily The Apple Store. \n\nIf you would like to learn more about our dynamic group\, please join us on\nTuesday\, September 13 from 9:30 - 11:30 a.m.\n\nWe'll meet in the museum lobby for\ndonuts and hot cider from The Apple Store\,\nfollowed by a walk through Discovery Station\,\nCraft Corner\, and 1859 Balloon Voyage.\nFrom there\, we'll board the tram and tour\nConner Prairie's newest experience:\n1863 Civil War Journey: Raid on Indiana.
X-ALT-DESC;FMTTYPE=text/html:You may have seen the Conner Prairie Alliance signs in Discovery Station\, Animal Encounters and\n1859 Balloon Voyage\, recognizing our group for its contributions to those experiences.\n\nYou may have visited The Apple Store\,\noperated every fall since 1985 by the women of the Alliance.\n\nBut what is the Conner Prairie Alliance?\n\nWe are a volunteer organization of nearly 100 women who are dedicated to supporting Conner Prairie through creative fundraising\, primarily The Apple Store. \n\nIf you would like to learn more about our dynamic group\, please join us on\nTuesday\, September 13 from 9:30 - 11:30 a.m.\n\nWe'll meet in the museum lobby for\ndonuts and hot cider from The Apple Store\,\nfollowed by a walk through Discovery Station\,\nCraft Corner\, and 1859 Balloon Voyage.\nFrom there\, we'll board the tram and tour\nConner Prairie's newest experience:\n1863 Civil War Journey: Raid on Indiana.\n\n
LOCATION:Conner Prairie
UID:e.1538.206
SEQUENCE:3
DTSTAMP:20260421T125155Z
URL:https://business.noblesvillechamber.com/events/details/discover-the-conner-prairie-alliance-09-13-2011-206
END:VEVENT

END:VCALENDAR
