BEGIN:VCALENDAR
VERSION:2.0
PRODID:-//ChamberMaster//Event Calendar 2.0//EN
METHOD:PUBLISH
X-PUBLISHED-TTL:P3D
REFRESH-INTERVAL:P3D
CALSCALE:GREGORIAN
BEGIN:VEVENT
DTSTART:20130824T180000Z
DTEND:20130824T230000Z
X-MICROSOFT-CDO-ALLDAYEVENT:FALSE
SUMMARY:Dog Day Afternoon featuring Woofstock
DESCRIPTION:Dog Day Afternoon featuring Woofstock\, hosted by the Humane Society for Hamilton County\, begins with the annual Parade of Paws Dog Walk Next\, enjoy live music on the Woofstock Stage all day\, over a hundred vendors\, great food\, kids' activities\, and a chance to spend the day with your family and pooch helping us raise money for the abused and homeless pets of Hamilton County.
X-ALT-DESC;FMTTYPE=text/html:Dog Day Afternoon featuring Woofstock\, hosted by the Humane Society for Hamilton County\, begins with the annual Parade of Paws Dog Walk Next\, enjoy live music on the Woofstock Stage all day\, over a hundred vendors\, great food\, kids&#39\; activities\, and a chance to spend the day with your family and pooch helping us raise money for the abused and homeless pets of Hamilton County.
LOCATION:Nickel Plate District Amphitheater 6 Municipal Drive Fishers IN 46038
UID:e.1538.486
SEQUENCE:3
DTSTAMP:20260420T005516Z
URL:https://business.noblesvillechamber.com/events/details/dog-day-afternoon-featuring-woofstock-486
END:VEVENT

END:VCALENDAR
