BEGIN:VCALENDAR
VERSION:2.0
PRODID:-//ChamberMaster//Event Calendar 2.0//EN
METHOD:PUBLISH
X-PUBLISHED-TTL:P3D
REFRESH-INTERVAL:P3D
CALSCALE:GREGORIAN
BEGIN:VEVENT
DTSTART:20140208T130000Z
DTEND:20140208T160000Z
X-MICROSOFT-CDO-ALLDAYEVENT:FALSE
SUMMARY:Eat\, Play\, Live -- A woman's journey of food\, fun and health
DESCRIPTION:Enjoy this time just for you with free brunch\, some much needed pampering\, chances to win great prizes\, and free health screenings including Know Your Numbers\, breast exams and bone density screenings.  Come by yourself or invite your girlfriends\, mom or sister.
X-ALT-DESC;FMTTYPE=text/html:Enjoy this time just for you with free brunch\, some much needed pampering\, chances to win great prizes\, and free health screenings including Know Your Numbers\, breast exams and bone density screenings.&nbsp\; Come by yourself or invite your girlfriends\, mom or sister.
LOCATION:13121 Olio Road\, Fishers\, IN
UID:e.1538.567
SEQUENCE:3
DTSTAMP:20260419T160608Z
URL:https://business.noblesvillechamber.com/events/details/eat-play-live-a-woman-s-journey-of-food-fun-and-health-567
END:VEVENT

END:VCALENDAR
