BEGIN:VCALENDAR
VERSION:2.0
PRODID:-//ChamberMaster//Event Calendar 2.0//EN
METHOD:PUBLISH
X-PUBLISHED-TTL:P3D
REFRESH-INTERVAL:P3D
CALSCALE:GREGORIAN
BEGIN:VEVENT
DTSTART:20110806T140000Z
DTEND:20110807T210000Z
X-MICROSOFT-CDO-ALLDAYEVENT:FALSE
SUMMARY:Election Day in 1836 Prairietown
DESCRIPTION:1836 Prairietown (on-going\, debate is at 1:30 p.m.)\nIt's Election Day in Prairietown! The very important local title of Fence Inspector is up for grabs\, and every vote counts! Come listen to the candidates debate and then help select the best candidate for the job. You can even run on your own platform\, if you feel up to the task!
X-ALT-DESC;FMTTYPE=text/html:1836 Prairietown (on-going\, debate is at 1:30 p.m.)\nIt's Election Day in Prairietown! The very important local title of Fence Inspector is up for grabs\, and every vote counts! Come listen to the candidates debate and then help select the best candidate for the job. You can even run on your own platform\, if you feel up to the task!\n
LOCATION:Conner Prairie
UID:e.1538.188
SEQUENCE:3
DTSTAMP:20260421T141437Z
URL:https://business.noblesvillechamber.com/events/details/election-day-in-1836-prairietown-08-06-2011-188
END:VEVENT

END:VCALENDAR
