BEGIN:VCALENDAR
VERSION:2.0
PRODID:-//ChamberMaster//Event Calendar 2.0//EN
METHOD:PUBLISH
X-PUBLISHED-TTL:P3D
REFRESH-INTERVAL:P3D
CALSCALE:GREGORIAN
BEGIN:VEVENT
DTSTART:20120607T033000Z
DTEND:20120606T170000Z
X-MICROSOFT-CDO-ALLDAYEVENT:FALSE
SUMMARY:Employment Seminar
DESCRIPTION:The Department of Labor\, Vocational Rehabilitation\, and the Howard County Business Leadership Network would like to invite you to a luncheon focusing on upcoming laws regarding hiring practices.  James Emmett will discuss Rule 503 changes that will affect federal contractors in terms of record-keeping\, recruitment\, and hiring individuals with disabilities.  Learning about these changes is very important for federal contractors.  Kathy Burns\, Regional Business Consultant and Jesse Ulmer\, Local Veterans Representative will discuss services available to veterans through WorkOne\, and how employers can benefit from these services.  There will be a question and answer session after the presentations\, as well as time to network with other employers.
X-ALT-DESC;FMTTYPE=text/html:The Department of Labor\, Vocational Rehabilitation\, and the Howard County Business Leadership Network would like to invite you to a luncheon focusing on upcoming laws regarding hiring practices.  James Emmett will discuss Rule 503 changes that will affect federal contractors in terms of record-keeping\, recruitment\, and hiring individuals with disabilities.  Learning about these changes is very important for federal contractors.  Kathy Burns\, Regional Business Consultant and Jesse Ulmer\, Local Veterans Representative will discuss services available to veterans through WorkOne\, and how employers can benefit from these services.  There will be a question and answer session after the presentations\, as well as time to network with other employers.
LOCATION:Rhum Academy of Music 500 W. Superior Street Kokomo\, IN 46901
UID:e.1538.284
SEQUENCE:3
DTSTAMP:20260420T221409Z
URL:https://business.noblesvillechamber.com/events/details/employment-seminar-06-06-2012-284
END:VEVENT

END:VCALENDAR
