BEGIN:VCALENDAR
VERSION:2.0
PRODID:-//ChamberMaster//Event Calendar 2.0//EN
METHOD:PUBLISH
X-PUBLISHED-TTL:P3D
REFRESH-INTERVAL:P3D
CALSCALE:GREGORIAN
BEGIN:VEVENT
DTSTART:20111021T130000Z
DTEND:20111028T190000Z
X-MICROSOFT-CDO-ALLDAYEVENT:FALSE
SUMMARY:Fall Break Camp 2011
DESCRIPTION:October 21 & 28\, 9 a.m. – 3 p.m. each day. For ages 6-13. Participants will need to bring their own lunch. $50/members ($55/non-members). Call 317.776.6006 or visit connerprairie.org for more information and to make reservations.
X-ALT-DESC;FMTTYPE=text/html:October 21 & 28\, 9 a.m. – 3 p.m. each day. For ages 6-13. Participants will need to bring their own lunch. $50/members ($55/non-members). Call 317.776.6006 or visit connerprairie.org for more information and to make reservations. \n
LOCATION:Conner Prairie
UID:e.1538.198
SEQUENCE:3
DTSTAMP:20260421T112311Z
URL:https://business.noblesvillechamber.com/events/details/fall-break-camp-2011-10-21-2011-198
END:VEVENT

END:VCALENDAR
