BEGIN:VCALENDAR
VERSION:2.0
PRODID:-//ChamberMaster//Event Calendar 2.0//EN
METHOD:PUBLISH
X-PUBLISHED-TTL:P3D
REFRESH-INTERVAL:P3D
CALSCALE:GREGORIAN
BEGIN:VEVENT
DTSTART:20120526T230000Z
DTEND:20120527T010000Z
X-MICROSOFT-CDO-ALLDAYEVENT:FALSE
SUMMARY:Family Fun Times at White River Campground
DESCRIPTION:Join us at White River Campground for Family Fun Times!\nOnce a month\, we will entertain you and your family. A\nvariety of entertainment will be offered throughout the\nseason to make your stay more enjoyable. Be sure to\ncheck out the SKP (Strawtown Koteewi Park)\, TCNH\n(Taylor Center of Natural History) and PBP (Potter's\nBridge Park) sections in this leisure guide to learn more\nabout other nearby park programs and events that provide\nentertainment for the whole family! For specific details\nregarding this season's upcoming events\, we invite you to\ncall 317-984-2705.\nSat.\, May 26 - Party with popular DJ Sunny Moon!
X-ALT-DESC;FMTTYPE=text/html:Join us at White River Campground for Family Fun Times!\nOnce a month\, we will entertain you and your family. A\nvariety of entertainment will be offered throughout the\nseason to make your stay more enjoyable. Be sure to\ncheck out the SKP (Strawtown Koteewi Park)\, TCNH\n(Taylor Center of Natural History) and PBP (Potter's\nBridge Park) sections in this leisure guide to learn more\nabout other nearby park programs and events that provide\nentertainment for the whole family! For specific details\nregarding this season's upcoming events\, we invite you to\ncall 317-984-2705.\nSat.\, May 26 - Party with popular DJ Sunny Moon!\n
LOCATION:White River Campground
UID:e.1538.304
SEQUENCE:3
DTSTAMP:20260420T235820Z
URL:https://business.noblesvillechamber.com/events/details/family-fun-times-at-white-river-campground-05-26-2012-304
END:VEVENT

END:VCALENDAR
