BEGIN:VCALENDAR
VERSION:2.0
PRODID:-//ChamberMaster//Event Calendar 2.0//EN
METHOD:PUBLISH
X-PUBLISHED-TTL:P3D
REFRESH-INTERVAL:P3D
CALSCALE:GREGORIAN
BEGIN:VEVENT
DTSTART:20120811T150000Z
DTEND:20120811T190000Z
X-MICROSOFT-CDO-ALLDAYEVENT:FALSE
SUMMARY:Famous Dave's Rib Tasting
DESCRIPTION:Bring your family and come on out and get a "famous" tasting of our award-winning ribs on Saturday and Sunday\, August 11 & 12\, from 11am - 3pm!\n\nStop in and register to win FREE ribs for a year with Country 97.1 HANK-FM AND submit a picture to our "Show Us Your Rib Face" contest with Indy Photo Booth for a first or second place prize ($100 and $50). Hop in the photo booth\, get messy\, get creative and SHOW US YOUR RIB FACE!\n\nSign up for our PIG (Pretty Important Guest) Club\, give the Famous Dave's mascot (Wilbur) a hug and show your support for the Shriners Hospitals for Children while you're here\, too!\n\nIt's gonna be a gorgeous weekend and an extra FAMOUS day!
X-ALT-DESC;FMTTYPE=text/html:Bring your family and come on out and get a &quot\;famous&quot\; tasting of our award-winning ribs on Saturday and Sunday\, August 11 &amp\; 12\, from 11am - 3pm!<br />\nStop in and register to win FREE ribs for a year with Country 97.1 HANK-FM AND submit a picture to our &quot\;Show Us Your Rib Face&quot\; contest with Indy Photo Booth for a first or second place prize ($100 and $50). Hop in the photo booth\, get messy\, get creative and SHOW US YOUR RIB FACE!<br />\nSign up for our PIG (Pretty Important Guest) Club\, give the Famous Dave&#39\;s mascot (Wilbur) a hug and show your support for the Shriners Hospitals for Children while you&#39\;re here\, too!<br />\nIt&#39\;s gonna be a gorgeous weekend and an extra FAMOUS day!
LOCATION:13455 Tegler Drive Noblesville\, IN 46060
UID:e.1538.328
SEQUENCE:3
DTSTAMP:20260420T190112Z
URL:https://business.noblesvillechamber.com/events/details/famous-dave-s-rib-tasting-328
END:VEVENT

END:VCALENDAR
