BEGIN:VCALENDAR
VERSION:2.0
PRODID:-//ChamberMaster//Event Calendar 2.0//EN
METHOD:PUBLISH
X-PUBLISHED-TTL:P3D
REFRESH-INTERVAL:P3D
CALSCALE:GREGORIAN
BEGIN:VEVENT
DTSTART:20110618T150000Z
DTEND:20110619T210000Z
X-MICROSOFT-CDO-ALLDAYEVENT:FALSE
SUMMARY:Father's Day Weekend at Conner Prairie
DESCRIPTION:Conner Prairie Interactive History Park \nFather's Day Weekend: June 18 & 19\nDads get $3 off general admission\n\nGive Dad a unique gift on Fathers Day with a visit to Conner Prairie Interactive History Park! Together\, throw a tomahawk\, fire a Civil War-era rifle ($10)\, visit the Science Lab for a ''Wild Wind'' adventure and help Prairietown carpenters construct the new Potter's Shop. Then\, enlist to defend Indiana from Confederate General John Hunt Morgan and his raiders in our newest\, outdoor experience ''1863 Civil War Journey: Raid on Indiana.'' What would you and Dad do to help defend your town?
X-ALT-DESC;FMTTYPE=text/html:Conner Prairie Interactive History Park \nFather's Day Weekend: June 18 & 19\nDads get $3 off general admission\n\nGive Dad a unique gift on Fathers Day with a visit to Conner Prairie Interactive History Park! Together\, throw a tomahawk\, fire a Civil War-era rifle ($10)\, visit the Science Lab for a ''Wild Wind'' adventure and help Prairietown carpenters construct the new Potter's Shop. Then\, enlist to defend Indiana from Confederate General John Hunt Morgan and his raiders in our newest\, outdoor experience ''1863 Civil War Journey: Raid on Indiana.'' What would you and Dad do to help defend your town?\n\n
LOCATION:Conner Prairie
UID:e.1538.187
SEQUENCE:3
DTSTAMP:20260421T172628Z
URL:https://business.noblesvillechamber.com/events/details/father-s-day-weekend-at-conner-prairie-06-18-2011-187
END:VEVENT

END:VCALENDAR
