BEGIN:VCALENDAR
VERSION:2.0
PRODID:-//ChamberMaster//Event Calendar 2.0//EN
METHOD:PUBLISH
X-PUBLISHED-TTL:P3D
REFRESH-INTERVAL:P3D
CALSCALE:GREGORIAN
BEGIN:VEVENT
DTSTART:20110714T133000Z
DTEND:20110715T223000Z
X-MICROSOFT-CDO-ALLDAYEVENT:FALSE
SUMMARY:Financial Health Fair
DESCRIPTION:Come to our Financial Health Fair on July 14 and 15.  We'll provide information and materials that will help you on the road to financial wellness.  Plus\, we'll also have a seminar on July 14 from 5:30 to 6:30 pm called Loan to Own.  In this seminar\, you'll learn the characteristics of consumer installment loans\, and how you can determine which loans are best for your needs - such as taking out an auto loan verses leasing an auto.  Ask a Branch Representative to sign you up today.  Sign up for the seminar at: http://www.forumcu.com/financialseminars.aspx or by emailing beverly.balke@forumcu.com.
X-ALT-DESC;FMTTYPE=text/html:Come to our Financial Health Fair on July 14 and 15.  We'll provide information and materials that will help you on the road to financial wellness.  Plus\, we'll also have a seminar on July 14 from 5:30 to 6:30 pm called Loan to Own.  In this seminar\, you'll learn the characteristics of consumer installment loans\, and how you can determine which loans are best for your needs - such as taking out an auto loan verses leasing an auto.  Ask a Branch Representative to sign you up today.  Sign up for the seminar at: http://www.forumcu.com/financialseminars.aspx or by emailing beverly.balke@forumcu.com.
LOCATION:16855 Mercantile Boulevard\, Noblesville Highway 37\, next to Chili's.
UID:e.1538.191
SEQUENCE:3
DTSTAMP:20260421T154559Z
URL:https://business.noblesvillechamber.com/events/details/financial-health-fair-07-14-2011-191
END:VEVENT

END:VCALENDAR
