BEGIN:VCALENDAR
VERSION:2.0
PRODID:-//ChamberMaster//Event Calendar 2.0//EN
METHOD:PUBLISH
X-PUBLISHED-TTL:P3D
REFRESH-INTERVAL:P3D
CALSCALE:GREGORIAN
BEGIN:VEVENT
DTSTART:20110401T233000Z
DTEND:20110401T233000Z
X-MICROSOFT-CDO-ALLDAYEVENT:FALSE
SUMMARY:Follow the North Star
DESCRIPTION:In this award-winning immersive history program\, you and your family and friends become runaway slaves on the Underground Railroad. Will you find freedom? Will anyone help you? You'll be changed forever as you explore the fears and challenges faced by fugitive slaves making their way through 1836 Indiana in this dramatic and powerful immersive history experience. Program lasts 90 minutes and begins from 7:30 p.m. - 8:30 p.m. $20/person ($17/member). Reservations required. Please call 317.776.6006 or visit connerprairie.org for more information.
X-ALT-DESC;FMTTYPE=text/html:In this award-winning immersive history program\, you and your family and friends become runaway slaves on the Underground Railroad. Will you find freedom? Will anyone help you? You'll be changed forever as you explore the fears and challenges faced by fugitive slaves making their way through 1836 Indiana in this dramatic and powerful immersive history experience. Program lasts 90 minutes and begins from 7:30 p.m. - 8:30 p.m. $20/person ($17/member). Reservations required. Please call 317.776.6006 or visit connerprairie.org for more information. 
LOCATION:Conner Prairie Interactive History Park
UID:e.1538.152
SEQUENCE:3
DTSTAMP:20260421T203908Z
URL:https://business.noblesvillechamber.com/events/details/follow-the-north-star-04-01-2011-152
END:VEVENT

END:VCALENDAR
