BEGIN:VCALENDAR
VERSION:2.0
PRODID:-//ChamberMaster//Event Calendar 2.0//EN
METHOD:PUBLISH
X-PUBLISHED-TTL:P3D
REFRESH-INTERVAL:P3D
CALSCALE:GREGORIAN
BEGIN:VEVENT
DTSTART:20120413T220000Z
DTEND:20120429T020000Z
X-MICROSOFT-CDO-ALLDAYEVENT:FALSE
SUMMARY:Follow the North Star
DESCRIPTION:In this nationally acclaimed\, award-winning program\, you and your family and friends will experience what it was like to seek freedom on the Underground Railroad. Will you find freedom? Will anyone help you? You'll be changed forever when you experience the fears and challenges faced by Indiana residents and those seeking freedom in this dramatic and powerful re-enactment. Program lasts 90 minutes with groups leaving every 15 minutes beginning at 6:30 p.m. until 9:30 p.m. $20/person\, $17/member. Recommended for ages 12 and up. Reservations required. For more information\, call (317) 776-6006 or visit www.connerprairie.org.
X-ALT-DESC;FMTTYPE=text/html:In this nationally acclaimed\, award-winning program\, you and your family and friends will experience what it was like to seek freedom on the Underground Railroad. Will you find freedom? Will anyone help you? You'll be changed forever when you experience the fears and challenges faced by Indiana residents and those seeking freedom in this dramatic and powerful re-enactment. Program lasts 90 minutes with groups leaving every 15 minutes beginning at 6:30 p.m. until 9:30 p.m. $20/person\, $17/member. Recommended for ages 12 and up. Reservations required. For more information\, call (317) 776-6006 or visit www.connerprairie.org.
LOCATION:Conner Prairie
UID:e.1538.235
SEQUENCE:3
DTSTAMP:20260421T013155Z
URL:https://business.noblesvillechamber.com/events/details/follow-the-north-star-04-13-2012-235
END:VEVENT

END:VCALENDAR
