BEGIN:VCALENDAR
VERSION:2.0
PRODID:-//ChamberMaster//Event Calendar 2.0//EN
METHOD:PUBLISH
X-PUBLISHED-TTL:P3D
REFRESH-INTERVAL:P3D
CALSCALE:GREGORIAN
BEGIN:VEVENT
DTSTART:20120420T223000Z
DTEND:20120422T013000Z
X-MICROSOFT-CDO-ALLDAYEVENT:FALSE
SUMMARY:Follow the North Star Presented by Fifth Third Bank
DESCRIPTION:In this nationally acclaimed\, award-winning program\, you will experience what it was like to seek freedom on the Underground Railroad at Conner Prairie Interactive History Park. You'll be changed forever as you encounter the fears and challenges faced by Indiana residents on their tumultuous path to independence in this dramatic and powerful reenactment. Program lasts 90 minutes with groups leaving every 15 minutes from 6:30 p.m. until 9:30 p.m. $20/person\, $17/member. Recommended for ages 12 and older. Reservations required. For more information\, call (317) 776-6006 or (800) 966-1836 or visit www.connerprairie.org.
X-ALT-DESC;FMTTYPE=text/html:In this nationally acclaimed\, award-winning program\, you will experience what it was like to seek freedom on the Underground Railroad at Conner Prairie Interactive History Park. You'll be changed forever as you encounter the fears and challenges faced by Indiana residents on their tumultuous path to independence in this dramatic and powerful reenactment. Program lasts 90 minutes with groups leaving every 15 minutes from 6:30 p.m. until 9:30 p.m. $20/person\, $17/member. Recommended for ages 12 and older. Reservations required. For more information\, call (317) 776-6006 or (800) 966-1836 or visit www.connerprairie.org.
LOCATION:Conner Prairie
UID:e.1538.247
SEQUENCE:3
DTSTAMP:20260421T030704Z
URL:https://business.noblesvillechamber.com/events/details/follow-the-north-star-presented-by-fifth-third-bank-04-20-2012-247
END:VEVENT

END:VCALENDAR
