BEGIN:VCALENDAR
VERSION:2.0
PRODID:-//ChamberMaster//Event Calendar 2.0//EN
METHOD:PUBLISH
X-PUBLISHED-TTL:P3D
REFRESH-INTERVAL:P3D
CALSCALE:GREGORIAN
BEGIN:VEVENT
DTSTART:20111103T233000Z
DTEND:20111103T233000Z
X-MICROSOFT-CDO-ALLDAYEVENT:FALSE
SUMMARY:Follow the North Star presented by Fifth Third Bank
DESCRIPTION:In this award-winning immersive history program\, you and your family and friends play the parts of runaway slaves on the Underground Railroad. Will you find freedom? Will anyone help you? You'll be changed forever as you explore the fears and challenges faced by fugitive slaves making their way through 1836 Indiana in this dramatic and powerful immersive history experience. Program lasts 90 minutes and begins from 7:30 p.m. - 8:30 p.m. $20/person ($17/member). Reservations required. Call 317.776.6006 or visit connerprairie.org for more information.
X-ALT-DESC;FMTTYPE=text/html:In this award-winning immersive history program\, you and your family and friends play the parts of runaway slaves on the Underground Railroad. Will you find freedom? Will anyone help you? You'll be changed forever as you explore the fears and challenges faced by fugitive slaves making their way through 1836 Indiana in this dramatic and powerful immersive history experience. Program lasts 90 minutes and begins from 7:30 p.m. - 8:30 p.m. $20/person ($17/member). Reservations required. Call 317.776.6006 or visit connerprairie.org for more information. \n
LOCATION:Conner Prairie
UID:e.1538.197
SEQUENCE:3
DTSTAMP:20260421T094524Z
URL:https://business.noblesvillechamber.com/events/details/follow-the-north-star-presented-by-fifth-third-bank-11-03-2011-197
END:VEVENT

END:VCALENDAR
