BEGIN:VCALENDAR
VERSION:2.0
PRODID:-//ChamberMaster//Event Calendar 2.0//EN
METHOD:PUBLISH
X-PUBLISHED-TTL:P3D
REFRESH-INTERVAL:P3D
CALSCALE:GREGORIAN
BEGIN:VEVENT
DTSTART:20131130T000000Z
DTEND:20131215T170000Z
X-MICROSOFT-CDO-ALLDAYEVENT:FALSE
SUMMARY:Forever Plaid: Plaid Tidings
DESCRIPTION:The Belfry Theatre presents "Forever Plaid: Plaid Tidings: Nov. 29 - Dec. 15. Plaid Tidings by Stuart Ross Directed by Ron Richards November 29\, 30\, December 6\, 7\, 8\, 13\, 14\, 15 Prices\, Times and Policies Forever Plaid\, your favorite heavenly boy group\, brings us Plaid Tidings? just in time for the holidays! Frankie\, Spark\, Jinx\, and Smudge return to the Walnut where they once wove the magic of the 50?s and 60?s into the hearts of everyone. So stuff your stockings with 1950?s tunes and Holiday gems like ?Let it Snow?\, and ?Have Yourself a Merry Little Christmas?. It?s musical fun with a big plaid Christmas bow on top!
X-ALT-DESC;FMTTYPE=text/html:The Belfry Theatre presents &quot\;Forever Plaid: Plaid Tidings: Nov. 29 - Dec. 15. Plaid Tidings by Stuart Ross Directed by Ron Richards November 29\, 30\, December 6\, 7\, 8\, 13\, 14\, 15 Prices\, Times and Policies Forever Plaid\, your favorite heavenly boy group\, brings us Plaid Tidings? just in time for the holidays! Frankie\, Spark\, Jinx\, and Smudge return to the Walnut where they once wove the magic of the 50?s and 60?s into the hearts of everyone. So stuff your stockings with 1950?s tunes and Holiday gems like ?Let it Snow?\, and ?Have Yourself a Merry Little Christmas?. It?s musical fun with a big plaid Christmas bow on top!
LOCATION:The Belfry Theatre 10690 Greenfield Ave\, Noblesville\, IN 46060
UID:e.1538.545
SEQUENCE:3
DTSTAMP:20260419T183636Z
URL:https://business.noblesvillechamber.com/events/details/forever-plaid-plaid-tidings-545
END:VEVENT

END:VCALENDAR
