BEGIN:VCALENDAR
VERSION:2.0
PRODID:-//ChamberMaster//Event Calendar 2.0//EN
METHOD:PUBLISH
X-PUBLISHED-TTL:P3D
REFRESH-INTERVAL:P3D
CALSCALE:GREGORIAN
BEGIN:VEVENT
DTSTART:20100814T153000Z
DTEND:20100814T163000Z
X-MICROSOFT-CDO-ALLDAYEVENT:FALSE
SUMMARY:FREDDY FEVER COMING TO INDIANA MEMBERS CREDIT UNION
DESCRIPTION:(Indianapolis\, IN\, August 2010)  Through a new partnership with the Indiana Fever\, Indiana Members Credit Union (IMCU) is happy to announce they will host a special appearance by Freddy Fever for the public on Saturday\, August 14\, 2010 at their Noblesville Branch located at 9710 Butterfly Drive.   \n\nThe IMCU staff invites you to join them from 11:30 am to 12:30 pm on Saturday for games and prizes and the opportunity to meet Freddy Fever!  \n\nDuring the event\, IMCU will have special product offerings and a knowledgeable staff available to answer questions.  IMCU invites you to experience the credit union difference!  \n\nFor more information about the event\, please contact Branch Manager\, Cathy Moritz\, at 317-773-3966.    \n\nIndiana Members Credit Union\, headquartered in Indianapolis\, Indiana\, was founded in \n1956 as the Indiana University Medical Center Federal Credit Union on the campus of\nIUPUI\, and has since grown to 24 branches in Central Indiana\, offering members a better \nfinancial alternative and a full array of products and services.  Traditionally offering \nbetter rates on loans and deposits\, IMCU maintains true to its roots by ''Keeping It Simple'' for members.  For more information\, please visit IMCU online at www.imcu.org.   \n\n                      ###
X-ALT-DESC;FMTTYPE=text/html:(Indianapolis\, IN\, August 2010)  Through a new partnership with the Indiana Fever\, Indiana Members Credit Union (IMCU) is happy to announce they will host a special appearance by Freddy Fever for the public on Saturday\, August 14\, 2010 at their Noblesville Branch located at 9710 Butterfly Drive.   \n\nThe IMCU staff invites you to join them from 11:30 am to 12:30 pm on Saturday for games and prizes and the opportunity to meet Freddy Fever!  \n\nDuring the event\, IMCU will have special product offerings and a knowledgeable staff available to answer questions.  IMCU invites you to experience the credit union difference!  \n\nFor more information about the event\, please contact Branch Manager\, Cathy Moritz\, at 317-773-3966.    \n\nIndiana Members Credit Union\, headquartered in Indianapolis\, Indiana\, was founded in \n1956 as the Indiana University Medical Center Federal Credit Union on the campus of\nIUPUI\, and has since grown to 24 branches in Central Indiana\, offering members a better \nfinancial alternative and a full array of products and services.  Traditionally offering \nbetter rates on loans and deposits\, IMCU maintains true to its roots by ''Keeping It Simple'' for members.  For more information\, please visit IMCU online at www.imcu.org.   \n\n                      ###\n
LOCATION:IMCU's Noblesville Branch is located at 9710 Butterfly Drive.
UID:e.1538.68
SEQUENCE:3
DTSTAMP:20260422T100207Z
URL:https://business.noblesvillechamber.com/events/details/freddy-fever-coming-to-indiana-members-credit-union-08-14-2010-68
END:VEVENT

END:VCALENDAR
