BEGIN:VCALENDAR
VERSION:2.0
PRODID:-//ChamberMaster//Event Calendar 2.0//EN
METHOD:PUBLISH
X-PUBLISHED-TTL:P3D
REFRESH-INTERVAL:P3D
CALSCALE:GREGORIAN
BEGIN:VEVENT
DTSTART:20130319T153000Z
DTEND:20130319T170000Z
X-MICROSOFT-CDO-ALLDAYEVENT:FALSE
SUMMARY:Free "Lunch-and-Learn" program
DESCRIPTION:Come to this free lunch\, and learn how to make your IRA Retirement Savings Contribution for 2013.  Get updated on all the rules for qualifed retirement savings accounts.  Everyone is eligible to contribute to a IRA\, even if you have a 401K plan from work.  You can even make a "Roth IRA" contribution\, and get tax-free returns for life.  Sole proprietors and independent contractors can also open a "Solo 401K" account and save much more.  (Bonus:  compliance information for health insurance requirements under PPACA in 2014.)
X-ALT-DESC;FMTTYPE=text/html:<p>\n	Come to this free lunch\, and learn how to make your IRA Retirement Savings Contribution for 2013.&nbsp\; Get updated on all the rules for qualifed retirement savings accounts.&nbsp\; Everyone is eligible to contribute to a IRA\, even if you have a 401K plan from work.&nbsp\; You can even make a &quot\;Roth IRA&quot\; contribution\, and get tax-free returns for life.&nbsp\; Sole proprietors and independent contractors can also open a &quot\;Solo 401K&quot\; account and save much more.&nbsp\; (Bonus:&nbsp\; compliance information for health insurance requirements under PPACA in 2014.)</p>\n
LOCATION:14074 Trade Center Drive\, Fishers IN 46038 (southwest corner of SR 37 and 141st Street\, across from Buffalo Wild Wings)
UID:e.1538.398
SEQUENCE:3
DTSTAMP:20260420T092108Z
URL:https://business.noblesvillechamber.com/events/details/free-lunch-and-learn-program-398
END:VEVENT

END:VCALENDAR
