BEGIN:VCALENDAR
VERSION:2.0
PRODID:-//ChamberMaster//Event Calendar 2.0//EN
METHOD:PUBLISH
X-PUBLISHED-TTL:P3D
REFRESH-INTERVAL:P3D
CALSCALE:GREGORIAN
BEGIN:VEVENT
DTSTART:20130720T140000Z
DTEND:20130720T170000Z
X-MICROSOFT-CDO-ALLDAYEVENT:FALSE
SUMMARY:Free Pet Microchipping Event
DESCRIPTION:Ameriana Bank and the Humane Society for Hamilton County are partnering up to provide free microchip implants for your pets! This is to help ensure a safe return if your companion goes missing. We will also be featuring pets available for adoption\, giveaways\, vendors\, and a variety of door prizes to pamper your furry family member! Please come join us! :)
X-ALT-DESC;FMTTYPE=text/html:Ameriana Bank and the Humane Society for Hamilton County are partnering up to provide free microchip implants for your pets! This is to help ensure a safe return if your companion goes missing. We will also be featuring pets available for adoption\, giveaways\, vendors\, and a variety of door prizes to pamper your furry family member! Please come join us! :)
LOCATION:Ameriana Bank 11521 Olio Road Fishers\, IN 46037
UID:e.1538.485
SEQUENCE:3
DTSTAMP:20260420T021125Z
URL:https://business.noblesvillechamber.com/events/details/free-pet-microchipping-event-485
END:VEVENT

END:VCALENDAR
