BEGIN:VCALENDAR
VERSION:2.0
PRODID:-//ChamberMaster//Event Calendar 2.0//EN
METHOD:PUBLISH
X-PUBLISHED-TTL:P3D
REFRESH-INTERVAL:P3D
CALSCALE:GREGORIAN
BEGIN:VEVENT
DTSTART:20120505T210000Z
DTEND:20120506T010000Z
X-MICROSOFT-CDO-ALLDAYEVENT:FALSE
SUMMARY:G Michael Salon - "Wish Upon A Car" - Benefiting Make a Wish
DESCRIPTION:G Michael Salon in Noblesville Indiana is hosting an event with all proceeds benefiting Make a Wish in Indianapolis on May 5th\, 2012 from 5pm to 9pm. \n\n\n\nCome enjoy live music from 'The Jester Kings' & more\, catered fare & drinks from local Indiana Beverage Companies such as Indiana Vodka\, Oliver Winery\, SunKing Brewery & Olinger Winery to name a few! \n\n\n\nFeatured will be one of the Official 33 Indy Pace Cars\, as well as vehicles from Zionsville Bentley\, here at our salon! \n\n\n\nFamilies welcomed! \n\n\n\nCome and enjoy an evening of fun\, food\, music and drinks with friends. Participate in the Silent Auction featuring AMAZING prizes from some of the many local retailers here in Indy that you know and love!\n\n \n\nPlease join us and help make this event a HUGE success for Make A Wish - Indianapolis! \n\n\n\nG Michael Salon / 16095 Prosperity Drive Suite 400 / Noblesville\, Indiana 46060 / 317-773-7700 /  http://www.gmichaelsalon.com
X-ALT-DESC;FMTTYPE=text/html:<p style="text-align: left\;">G Michael Salon in Noblesville Indiana is hosting an event with all proceeds benefiting Make a Wish in Indianapolis on May 5th\, 2012 from 5pm to 9pm. <br />\n<br />\nCome enjoy live music from 'The Jester Kings' &amp\; more\, catered fare &amp\; drinks from local Indiana Beverage Companies such as Indiana Vodka\, Oliver Winery\, SunKing Brewery &amp\; Olinger Winery to name a few! <br />\n<br />\nFeatured will be one of the Official 33 Indy Pace Cars\, as well as vehicles from Zionsville Bentley\, here at our salon! <br />\n<br />\nFamilies welcomed! <br />\n<br />\nCome and enjoy an evening of fun\, food\, music and drinks with friends. Participate in the Silent Auction featuring AMAZING prizes from some of the many local retailers here in Indy that you know and love!<br />\n&nbsp\;<br />\nPlease join us and help make this event a HUGE success for Make A Wish - Indianapolis! <br />\n<br />\n<em>G Michael Salon / 16095 Prosperity Drive Suite 400 / Noblesville\, Indiana 46060 / 317-773-7700 / &nbsp\;http://www.gmichaelsalon.com</em></p>
LOCATION:G Michael Salon is located at the corner of Highway 37 and Greenfield Avenue in Noblesville Indiana.
UID:e.1538.276
SEQUENCE:3
DTSTAMP:20260420T235609Z
URL:https://business.noblesvillechamber.com/events/details/g-michael-salon-wish-upon-a-car-benefiting-make-a-wish-05-05-2012-276
END:VEVENT

END:VCALENDAR
