BEGIN:VCALENDAR
VERSION:2.0
PRODID:-//ChamberMaster//Event Calendar 2.0//EN
METHOD:PUBLISH
X-PUBLISHED-TTL:P3D
REFRESH-INTERVAL:P3D
CALSCALE:GREGORIAN
BEGIN:VEVENT
DTSTART:20120501T140000Z
DTEND:20120530T210000Z
X-MICROSOFT-CDO-ALLDAYEVENT:FALSE
SUMMARY:Green Thumbs Up
DESCRIPTION:Do you have a green thumb? Find out at Conner Prairie Interactive History Park as we work in the different gardens throughout the month of May. Dig around and get dirty in the different gardens across the historic grounds. Grab a shovel and help finish the planting or simply explore the various plants and flowers. Mark your calendars for May 5 and 6 for special presentations by Herb Society of Central Indiana members and May 26 and 27 for wildflower and plant walks across the prairie. Green Thumbs Up activities occur daily and are included in the price of general admission. Admission is $14/adults\, $13/seniors 65+\, $9/youth (ages 2-12)\, free for members and youth under 2. For more information\, call (317) 776-6006 or (800) 966-1836 or visit www.connerprairie.org.
X-ALT-DESC;FMTTYPE=text/html:Do you have a green thumb? Find out at Conner Prairie Interactive History Park as we work in the different gardens throughout the month of May. Dig around and get dirty in the different gardens across the historic grounds. Grab a shovel and help finish the planting or simply explore the various plants and flowers. Mark your calendars for May 5 and 6 for special presentations by Herb Society of Central Indiana members and May 26 and 27 for wildflower and plant walks across the prairie. Green Thumbs Up activities occur daily and are included in the price of general admission. Admission is $14/adults\, $13/seniors 65+\, $9/youth (ages 2-12)\, free for members and youth under 2. For more information\, call (317) 776-6006 or (800) 966-1836 or visit www.connerprairie.org.
LOCATION:Conner Prairie
UID:e.1538.251
SEQUENCE:3
DTSTAMP:20260420T234647Z
URL:https://business.noblesvillechamber.com/events/details/green-thumbs-up-05-01-2012-251
END:VEVENT

END:VCALENDAR
