BEGIN:VCALENDAR
VERSION:2.0
PRODID:-//ChamberMaster//Event Calendar 2.0//EN
METHOD:PUBLISH
X-PUBLISHED-TTL:P3D
REFRESH-INTERVAL:P3D
CALSCALE:GREGORIAN
BEGIN:VEVENT
DTSTART:20130122T210000Z
DTEND:20130123T010000Z
X-MICROSOFT-CDO-ALLDAYEVENT:FALSE
SUMMARY:GuardianKIDS I. D. Program
DESCRIPTION:Golden Corral of Noblesville to Offer\n\n	GuardianKIDS I.D. Program \n\n\nAbout every 40 seconds a child is reported missing in the United States.  That equates to 800\,000 missing children each year.  However\, less than two percent of parents have ever had their children's fingerprints taken\, which provide law enforcement authorities with a valuable tool to help them locate and identify missing children.  The GuardianKIDS I.D. Program provides a solution to this issue.\n\n\n\nDrop in with your child on the following dates and receive one Bio-Doc that contains the child's photograph and accurate fingerprints.\n\n\n\n\n	\n		\n			\n				January 22\n			\n				4 pm - 8 pm\n			\n				 \n			\n				January 24\n			\n				4 pm - 8 pm\n		\n		\n			\n				January 26\n			\n				11 am - 3 pm\n			\n				 \n			\n				February 5\n			\n				4 pm - 8 pm\n		\n		\n			\n				February 7\n			\n				4 pm - 8 pm\n			\n				 \n			\n				February 9\n			\n				11 am - 3 pm\n		\n	\n\n\n\n\n\nNo purchase or appointment is necessary to participate in this program.
X-ALT-DESC;FMTTYPE=text/html:<p style="text-align: center\;">\n	<span style="font-size:14px\;"><strong>Golden Corral of Noblesville to Offer<br />\n	GuardianKIDS I.D. Program </strong></span></p>\n<br />\nAbout every 40 seconds a child is reported missing in the United States.&nbsp\; That equates to 800\,000 missing children each year.&nbsp\; However\, less than two percent of parents have ever had their children&#39\;s fingerprints taken\, which provide law enforcement authorities with a valuable tool to help them locate and identify missing children.&nbsp\; The GuardianKIDS I.D. Program provides a solution to this issue.<br />\n<br />\nDrop in with your child on the following dates and receive one Bio-Doc that contains the child&#39\;s photograph and accurate fingerprints.<br />\n<br />\n<table border="1" cellpadding="1" cellspacing="1" height="63" width="412">\n	<tbody>\n		<tr>\n			<td>\n				January 22</td>\n			<td>\n				4 pm - 8 pm</td>\n			<td>\n				&nbsp\;</td>\n			<td>\n				January 24</td>\n			<td>\n				4 pm - 8 pm</td>\n		</tr>\n		<tr>\n			<td>\n				January 26</td>\n			<td>\n				11 am - 3 pm</td>\n			<td>\n				&nbsp\;</td>\n			<td>\n				February 5</td>\n			<td>\n				4 pm - 8 pm</td>\n		</tr>\n		<tr>\n			<td>\n				February 7</td>\n			<td>\n				4 pm - 8 pm</td>\n			<td>\n				&nbsp\;</td>\n			<td>\n				February 9</td>\n			<td>\n				11 am - 3 pm</td>\n		</tr>\n	</tbody>\n</table>\n<br />\n<br />\nNo purchase or appointment is necessary to participate in this program.
LOCATION:Golden Corral 15755 N. Pointe Blvd. Noblesville\, IN 46060
UID:e.1538.381
SEQUENCE:3
DTSTAMP:20260420T113905Z
URL:https://business.noblesvillechamber.com/events/details/guardiankids-i-d-program-381
END:VEVENT

END:VCALENDAR
