BEGIN:VCALENDAR
VERSION:2.0
PRODID:-//ChamberMaster//Event Calendar 2.0//EN
METHOD:PUBLISH
X-PUBLISHED-TTL:P3D
REFRESH-INTERVAL:P3D
CALSCALE:GREGORIAN
BEGIN:VEVENT
DTSTART:20100821T140000Z
DTEND:20100821T200000Z
X-MICROSOFT-CDO-ALLDAYEVENT:FALSE
SUMMARY:Hamilton County Chiropractic Blood Drive & Wellness Day
DESCRIPTION:Blood Drive and Wellness Day\nFamily Oriented:\nFire Dept\, Bouncy Town\,Child ID program\,Ballerinas Academy of Dance\,\nKumon Learning Center\,American Heart Association\nNoblesville Athletic Club\, and many more vendors
X-ALT-DESC;FMTTYPE=text/html:Blood Drive and Wellness Day\nFamily Oriented:\nFire Dept\, Bouncy Town\,Child ID program\,Ballerinas Academy of Dance\,\nKumon Learning Center\,American Heart Association\nNoblesville Athletic Club\, and many more vendors 
LOCATION:Hamilton County Chiropractic Cross roads of Lakeview & Logan 3 blocks North of 32 & 38 (Riverview Hospital) *** Blood Donation openings still available***
UID:e.1538.64
SEQUENCE:3
DTSTAMP:20260422T095906Z
URL:https://business.noblesvillechamber.com/events/details/hamilton-county-chiropractic-blood-drive-wellness-day-08-21-2010-64
END:VEVENT

END:VCALENDAR
