BEGIN:VCALENDAR
VERSION:2.0
PRODID:-//ChamberMaster//Event Calendar 2.0//EN
METHOD:PUBLISH
X-PUBLISHED-TTL:P3D
REFRESH-INTERVAL:P3D
CALSCALE:GREGORIAN
BEGIN:VEVENT
DTSTART:20101109T150000Z
DTEND:20101109T210000Z
X-MICROSOFT-CDO-ALLDAYEVENT:FALSE
SUMMARY:Hamilton County Job Fair
DESCRIPTION:Noblesville Mayor John Ditslear is hosting a Hamilton County Job Fair Tuesday\, November 9th from 10am-4pm at the Hamilton County 4H Fair Grounds. This is a combined effort by many partners....All Hamilton County Chambers of Commerce\, Hamilton County Commissioners\, WorkOne\, Legacy Fund\, Ball State University\, Hamilton County Alliance\, Riverview Hospital\, Hamilton County Convention and Visitors Bureau\, Noblesville Economic Development Department. Employers are invited to man a booth for $25. Lunch will be provided to 2 persons at Employer booths. Job Seeker attendance is free. Legacy Fund is donating 4 - $1\,500.00 scholorships...2 for employers and 2 for job seekers. Please join us at the Fairgrounds and help lives to change. Call Lisa Ferguson at 317-776-6345 or e-mail her at lferguson@noblesville.in.us for more information on how you can participate!
X-ALT-DESC;FMTTYPE=text/html:Noblesville Mayor John Ditslear is hosting a Hamilton County Job Fair Tuesday\, November 9th from 10am-4pm at the Hamilton County 4H Fair Grounds. This is a combined effort by many partners....All Hamilton County Chambers of Commerce\, Hamilton County Commissioners\, WorkOne\, Legacy Fund\, Ball State University\, Hamilton County Alliance\, Riverview Hospital\, Hamilton County Convention and Visitors Bureau\, Noblesville Economic Development Department. Employers are invited to man a booth for $25. Lunch will be provided to 2 persons at Employer booths. Job Seeker attendance is free. Legacy Fund is donating 4 - $1\,500.00 scholorships...2 for employers and 2 for job seekers. Please join us at the Fairgrounds and help lives to change. Call Lisa Ferguson at 317-776-6345 or e-mail her at lferguson@noblesville.in.us for more information on how you can participate!
LOCATION:Hamilton County 4H Fairgrounds At SR 37/Pleasant Street intersection in Noblesville...turn west onto Pleasant Street...turn left at the first light ....fairgrounds are on the right.
UID:e.1538.83
SEQUENCE:3
DTSTAMP:20260422T045344Z
URL:https://business.noblesvillechamber.com/events/details/hamilton-county-job-fair-11-09-2010-83
END:VEVENT

END:VCALENDAR
