BEGIN:VCALENDAR
VERSION:2.0
PRODID:-//ChamberMaster//Event Calendar 2.0//EN
METHOD:PUBLISH
X-PUBLISHED-TTL:P3D
REFRESH-INTERVAL:P3D
CALSCALE:GREGORIAN
BEGIN:VEVENT
DTSTART:20120811T150000Z
DTEND:20120811T190000Z
X-MICROSOFT-CDO-ALLDAYEVENT:FALSE
SUMMARY:Hamilton County Sports Complex Family Fun Fair presented by IU Health
DESCRIPTION:FREE fun interactive games and events for the entire family
X-ALT-DESC;FMTTYPE=text/html:FREE fun interactive games and events for the entire family
LOCATION:Hamilton County Sports Complex
UID:e.1538.326
SEQUENCE:3
DTSTAMP:20260420T190644Z
URL:https://business.noblesvillechamber.com/events/details/hamilton-county-sports-complex-family-fun-fair-presented-by-iu-health-326
END:VEVENT

END:VCALENDAR
