BEGIN:VCALENDAR
VERSION:2.0
PRODID:-//ChamberMaster//Event Calendar 2.0//EN
METHOD:PUBLISH
X-PUBLISHED-TTL:P3D
REFRESH-INTERVAL:P3D
CALSCALE:GREGORIAN
BEGIN:VEVENT
DTSTART:20131109T180000Z
DTEND:20131110T020000Z
X-MICROSOFT-CDO-ALLDAYEVENT:FALSE
SUMMARY:Hamilton Town Center Holiday Festival 2013
DESCRIPTION:The free event will feature two stages of live music and entertainment\, roaming entertainment including stilt walkers\, jugglers and fire breathers. There will also be face painters\, balloon artists and a variety of tenant and partner booths. Attendees will enjoy delicious food from local food trucks and also appearances by Indy Colts\, Indy Ice and Zooperstars! The event will be complete with Santa's arrival and a fireworks extravaganza!
X-ALT-DESC;FMTTYPE=text/html:<div>\n	The free event will feature two stages of live music and entertainment\, roaming entertainment including stilt walkers\, jugglers and fire breathers. There will also be face painters\, balloon artists and a variety of tenant and partner booths. Attendees will enjoy delicious food from local food trucks and also appearances by Indy Colts\, Indy Ice and Zooperstars! The event will be complete with Santa&#39\;s arrival and a fireworks extravaganza!&nbsp\;</div>\n
LOCATION:13901 Town Center Blvd\, Noblesville\, IN 46060-4005
UID:e.1538.529
SEQUENCE:3
DTSTAMP:20260419T201725Z
URL:https://business.noblesvillechamber.com/events/details/hamilton-town-center-holiday-festival-2013-529
END:VEVENT

END:VCALENDAR
