BEGIN:VCALENDAR
VERSION:2.0
PRODID:-//ChamberMaster//Event Calendar 2.0//EN
METHOD:PUBLISH
X-PUBLISHED-TTL:P3D
REFRESH-INTERVAL:P3D
CALSCALE:GREGORIAN
BEGIN:VEVENT
DTSTART:20121110T190000Z
DTEND:20121111T020000Z
X-MICROSOFT-CDO-ALLDAYEVENT:FALSE
SUMMARY:Hamilton Town Center Holiday Festival
DESCRIPTION:A DAY OF FAMILY FESTIVITIES AND HOLIDAY FUN ON THE DECORATED AND DECKED-OUT VILLAGE STREETS OF HAMILTON TOWN CENTER!\n\n\n\nMAIN ENTERTAINMENT STAGE FEATURING:\n\n~ INDIANA'S PREMIER BANDS "THE TOY FACTORY"& "THE BIG TIME"\n\nZOOPERSTARS!   AS SEEN ON "AMERICA'S GOT TALENT"\n\n~ WZPL'S SMILEY GLEE CLUB PERFORMANCES\n\n~ SILLY SAFARI'S LIVE REINDEER & ANIMAL SHOW\n\n~ OTHER MUSICAL ENTERTAINMENT (DORMAN STREET MUSICAL GROUP\, NOBLESVILLE ELEMENTARY BELL RINGERS\, NOBLESVILLE JAZZ BAND\, ETC.)\n\n\n\nSTROLLING STREET PERFORMERS:\n\n~ MAGICIANS\, STILT WALKERS\, JUGGLERS\n\n~ FACE PAINTERS\, BALLOON ARTISTS\n\n~ ICE SCULPTING DEMONSTRATIONS\n\n~ FIRE EATING SHOWS\n\n~ STORY TELLING AT THE FIREPLACE\n\n\n\nFESTIVE FOOD VENDORS\, ACTIVITIES & GIVEAWAYS:\n\n~ YUMMY FOOD TRUCKS AND SAMPLING\n\n~ INDIANA ICE STREET RINK FUN\n\n~ COOKIE DECORATING FUN\n\n~ COMMUNITY HEALTH NETWORK PHOTO BOOTH FUN!\n\n~ HAMILTON TOWN CENTER RETAILER SAMPLING & GIVEAWAYS\n\n\n\nGIFTCARD DRAWINGS EACH AND EVERY HOUR WITH GRAND PRIZE!\n\n\n\nWZPL AND THE "PAY IT FORWARD PENGUIN"   TRACKING HIS TRAVELS THROUGHOUT HAMILTON TOWN CENTER\n\n\n\nSANTA'S SURPRISING GRAND ARRIVAL \n\n\n\nCHRISTMAS TREE LIGHTING EVENT WITH WTHR TV 13\n\n\n\nFIREWORKS SPECTACULAR GRAND FINALE EVENT
X-ALT-DESC;FMTTYPE=text/html:<strong>A DAY OF FAMILY FESTIVITIES AND HOLIDAY FUN ON THE DECORATED AND DECKED-OUT VILLAGE STREETS OF HAMILTON TOWN CENTER!</strong><br />\n<br />\n<strong>MAIN ENTERTAINMENT STAGE FEATURING:</strong><br />\n~ INDIANA&rsquo\;S PREMIER BANDS &ldquo\;THE TOY FACTORY&rdquo\;&amp\; &ldquo\;THE BIG TIME&rdquo\;<br />\nZOOPERSTARS! &ndash\; AS SEEN ON &ldquo\;AMERICA&rsquo\;S GOT TALENT&rdquo\;<br />\n~ WZPL&rsquo\;S SMILEY GLEE CLUB PERFORMANCES<br />\n~ SILLY SAFARI&rsquo\;S LIVE REINDEER &amp\; ANIMAL SHOW<br />\n~ OTHER MUSICAL ENTERTAINMENT (DORMAN STREET MUSICAL GROUP\, NOBLESVILLE ELEMENTARY BELL RINGERS\, NOBLESVILLE JAZZ BAND\, ETC.)<br />\n<br />\n<strong>STROLLING STREET PERFORMERS:</strong><br />\n~ MAGICIANS\, STILT WALKERS\, JUGGLERS<br />\n~ FACE PAINTERS\, BALLOON ARTISTS<br />\n~ ICE SCULPTING DEMONSTRATIONS<br />\n~ FIRE EATING SHOWS<br />\n~ STORY TELLING AT THE FIREPLACE<br />\n<br />\n<strong>FESTIVE FOOD VENDORS\, ACTIVITIES &amp\; GIVEAWAYS</strong>:<br />\n~ YUMMY FOOD TRUCKS AND SAMPLING<br />\n~ INDIANA ICE STREET RINK FUN<br />\n~ COOKIE DECORATING FUN<br />\n~ COMMUNITY HEALTH NETWORK PHOTO BOOTH FUN!<br />\n~ HAMILTON TOWN CENTER RETAILER SAMPLING &amp\; GIVEAWAYS<br />\n<br />\n<strong>GIFTCARD DRAWINGS EACH AND EVERY HOUR WITH GRAND PRIZE!<br />\n<br />\nWZPL AND THE &ldquo\;PAY IT FORWARD PENGUIN&rdquo\; </strong>&ndash\; TRACKING HIS TRAVELS THROUGHOUT HAMILTON TOWN CENTER<br />\n<br />\n<strong>SANTA&rsquo\;S SURPRISING GRAND ARRIVAL </strong><br />\n<br />\n<strong>CHRISTMAS TREE LIGHTING EVENT WITH WTHR TV 13<br />\n<br />\nFIREWORKS SPECTACULAR GRAND FINALE EVENT</strong><br />\n<br />\n<br />\n
LOCATION:Hamilton Town Center
UID:e.1538.359
SEQUENCE:3
DTSTAMP:20260420T144938Z
URL:https://business.noblesvillechamber.com/events/details/hamilton-town-center-holiday-festival-359
END:VEVENT

END:VCALENDAR
