BEGIN:VCALENDAR
VERSION:2.0
PRODID:-//ChamberMaster//Event Calendar 2.0//EN
METHOD:PUBLISH
X-PUBLISHED-TTL:P3D
REFRESH-INTERVAL:P3D
CALSCALE:GREGORIAN
BEGIN:VEVENT
DTSTART:20131022T230000Z
DTEND:20131025T020000Z
X-MICROSOFT-CDO-ALLDAYEVENT:FALSE
SUMMARY:Haunted Trails
DESCRIPTION:Make your way through the "boo-tiful" woods of Cool Creek Park for our annual Haunted Trails Halloween event! Ghouls and goblins are lurking at every turn and waiting  for you to arrive. Trail not recommended for kids under 12\, but there will be lots of non-scary activities for the little ones in the Trick-or-Treat Trail - a campfire\, free hayrides and more!\n\n	 \n\n	Dates: October 22\, 23\, 24\n\n	Cost: $5 per person\n\n	 \n\n	Looking to SCARE up Some Funds?\n\n	We are seeking individuals and groups that want  to raise money for their community organization by volunteering at Haunted Trails. Call 317-774-2509 or email volunteer@hamiltoncounty.in.gov for complete volunteer opportunity details.
X-ALT-DESC;FMTTYPE=text/html:<p style="margin: 0in 0in 0pt">\n	<span lang="EN" style="mso-ansi-language: EN"><font color="#000000"><font size="3">Make your way through the &quot\;boo-tiful&quot\; woods of Cool Creek Park for our annual Haunted Trails Halloween event! Ghouls and goblins are lurking at every turn and waiting&nbsp\; for you to arrive. Trail not recommended for kids under 12\, but there will be lots of non-scary activities for the little ones in the Trick-or-Treat Trail - a campfire\, free hayrides and more!<o:p></o:p></font></font></span></p>\n<p style="margin: 0in 0in 0pt">\n	<b><span lang="EN" style="mso-ansi-language: EN"><o:p><font color="#000000" size="3">&nbsp\;</font></o:p></span></b></p>\n<p style="margin: 0in 0in 0pt">\n	<b><span lang="EN" style="mso-ansi-language: EN"><font color="#000000" size="3">Dates: </font></span></b><span lang="EN" style="mso-ansi-language: EN"><font color="#000000"><font size="3">October 22\, 23\, 24<br />\n	<b>Cost: </b>$5 per person<o:p></o:p></font></font></span></p>\n<p style="margin: 0in 0in 0pt">\n	<span lang="EN" style="mso-ansi-language: EN"><o:p><font color="#000000" size="3">&nbsp\;</font></o:p></span></p>\n<p style="margin: 0in 0in 0pt">\n	<span lang="EN" style="mso-ansi-language: EN"><font color="#000000" size="3">Looking to&nbsp\;SCARE up Some Funds?<br />\n	We are seeking individuals and groups that want &nbsp\;to raise money for their community organization by volunteering at Haunted Trails. Call 317-774-2509 or email </font></span><a href="mailto:volunteer@hamiltoncounty.in.gov"><i><span lang="EN" style="mso-ansi-language: EN"><font size="3">volunteer@hamiltoncounty.in.gov </font></span></i></a><span lang="EN" style="mso-ansi-language: EN"><font size="3"><font color="#000000">for complete volunteer opportunity details.<o:p></o:p></font></font></span></p>\n
LOCATION:Cool Creek Park 2000 E 151st St Carmel\, IN 46032
UID:e.1538.504
SEQUENCE:3
DTSTAMP:20260419T213914Z
URL:https://business.noblesvillechamber.com/events/details/haunted-trails-504
END:VEVENT

END:VCALENDAR
