BEGIN:VCALENDAR
VERSION:2.0
PRODID:-//ChamberMaster//Event Calendar 2.0//EN
METHOD:PUBLISH
X-PUBLISHED-TTL:P3D
REFRESH-INTERVAL:P3D
CALSCALE:GREGORIAN
BEGIN:VEVENT
DTSTART:20130205T130000Z
DTEND:20130205T163000Z
X-MICROSOFT-CDO-ALLDAYEVENT:FALSE
SUMMARY:HCLA - The Board Building Cycle
DESCRIPTION:
X-ALT-DESC;FMTTYPE=text/html:
LOCATION:Delaware Township Community Center 9094 E 131st St Fishers\, IN
UID:e.1538.392
SEQUENCE:3
DTSTAMP:20260420T114107Z
URL:https://business.noblesvillechamber.com/events/details/hcla-the-board-building-cycle-392
END:VEVENT

END:VCALENDAR
