BEGIN:VCALENDAR
VERSION:2.0
PRODID:-//ChamberMaster//Event Calendar 2.0//EN
METHOD:PUBLISH
X-PUBLISHED-TTL:P3D
REFRESH-INTERVAL:P3D
CALSCALE:GREGORIAN
BEGIN:VEVENT
DTSTART:20111014T140000Z
DTEND:20111014T140000Z
X-MICROSOFT-CDO-ALLDAYEVENT:FALSE
SUMMARY:Headless Horseman Supported by Marsh Supermarkets and Reynolds Farm Equipment
DESCRIPTION:October 14-16\, 20-23\, 27-29\nWhen a ghost whispers in your ear\, when you catch the shadow of a skeleton in the moonlight\, when you hear the gallop of a haunted horse… you're in the middle of Sleepy Hollow. Gather family and friends close and prepare to jump and scream as the Headless Horseman of Sleepy Hollow rides again. And when your racing heart begins to slow down\, join in for night entertainment at the barn dance and enjoy fun activities that present the story of the Legend of Sleepy Hollow. Thurs. and Sun. tickets are $9 presale\, $11 at the gate. Fri. and Sat. tickets are $13 presale\, $15 at gate. Presale tickets available at Marsh and O'Malia's locations. Gates open 6 - 9 p.m. Call 317.776.6006 or visit connerprairie.org for more information.
X-ALT-DESC;FMTTYPE=text/html:October 14-16\, 20-23\, 27-29\nWhen a ghost whispers in your ear\, when you catch the shadow of a skeleton in the moonlight\, when you hear the gallop of a haunted horse… you're in the middle of Sleepy Hollow. Gather family and friends close and prepare to jump and scream as the Headless Horseman of Sleepy Hollow rides again. And when your racing heart begins to slow down\, join in for night entertainment at the barn dance and enjoy fun activities that present the story of the Legend of Sleepy Hollow. Thurs. and Sun. tickets are $9 presale\, $11 at the gate. Fri. and Sat. tickets are $13 presale\, $15 at gate. Presale tickets available at Marsh and O'Malia's locations. Gates open 6 - 9 p.m. Call 317.776.6006 or visit connerprairie.org for more information.
LOCATION:Conner Prairie
UID:e.1538.199
SEQUENCE:3
DTSTAMP:20260421T112944Z
URL:https://business.noblesvillechamber.com/events/details/headless-horseman-supported-by-marsh-supermarkets-and-reynolds-farm-equipment-10-14-2011-199
END:VEVENT

END:VCALENDAR
