BEGIN:VCALENDAR
VERSION:2.0
PRODID:-//ChamberMaster//Event Calendar 2.0//EN
METHOD:PUBLISH
X-PUBLISHED-TTL:P3D
REFRESH-INTERVAL:P3D
CALSCALE:GREGORIAN
BEGIN:VEVENT
DTSTART:20120329T220000Z
DTEND:20120329T230000Z
X-MICROSOFT-CDO-ALLDAYEVENT:FALSE
SUMMARY:Healthy Heart Seminar
DESCRIPTION:Hamilton County Chiropractic would like to invite you to join us on Thursday\, March 29th from 6-7pm in our office located at 220 Lakeview Drive\, Noblesville. Dr. Abraham Beaber will be speaking on Heart Disease. Heart Disease is America's most lethal killer\, claiming one life every 39 SECONDS. This seminar was designed to create awareness about heart disease and increase knowledge about prevention. Save a life\, bring a friend!
X-ALT-DESC;FMTTYPE=text/html:Hamilton County Chiropractic would like to invite you to join us on Thursday\, March 29th from 6-7pm in our office located at 220 Lakeview Drive\, Noblesville. Dr. Abraham Beaber will be speaking on Heart Disease. Heart Disease is America's most lethal killer\, claiming one life every 39 SECONDS. This seminar was designed to create awareness about heart disease and increase knowledge about prevention. Save a life\, bring a friend!
LOCATION:Hamilton County Chiropractic is located near the intersection of Lakeview and Logan just north of the M&I Bank.
UID:e.1538.256
SEQUENCE:3
DTSTAMP:20260421T043710Z
URL:https://business.noblesvillechamber.com/events/details/healthy-heart-seminar-03-29-2012-256
END:VEVENT

END:VCALENDAR
