BEGIN:VCALENDAR
VERSION:2.0
PRODID:-//ChamberMaster//Event Calendar 2.0//EN
METHOD:PUBLISH
X-PUBLISHED-TTL:P3D
REFRESH-INTERVAL:P3D
CALSCALE:GREGORIAN
BEGIN:VEVENT
DTSTART;VALUE=DATE:20121105
DTEND;VALUE=DATE:20121112
TRANSP:TRANSPARENT
X-MICROSOFT-CDO-ALLDAYEVENT:TRUE
SUMMARY:Hire1 Help2
DESCRIPTION:Help Express feed local families during this Holiday Season. The Hire1 Help2 program get an additional person out working and doing those pesky projects you have been wanting done but cant seem the time to do them! Call me to sign up today. 317-596-9370 Curt Osweiler
X-ALT-DESC;FMTTYPE=text/html:Help Express feed local families during this Holiday Season. The Hire1 Help2 program get an&nbsp\;additional person out working and doing those pesky projects you have been wanting done but cant seem the time to do them! Call me to sign up today. 317-596-9370 Curt Osweiler
LOCATION:Hamilton County
UID:e.1538.361
SEQUENCE:3
DTSTAMP:20260420T160838Z
URL:https://business.noblesvillechamber.com/events/details/hire1-help2-361
END:VEVENT

END:VCALENDAR
