BEGIN:VCALENDAR
VERSION:2.0
PRODID:-//ChamberMaster//Event Calendar 2.0//EN
METHOD:PUBLISH
X-PUBLISHED-TTL:P3D
REFRESH-INTERVAL:P3D
CALSCALE:GREGORIAN
BEGIN:VEVENT
DTSTART:20121215T170000Z
DTEND:20121215T200000Z
X-MICROSOFT-CDO-ALLDAYEVENT:FALSE
SUMMARY:Holiday Extravangza Tea
DESCRIPTION:Celebrate the Holidays with Us!\n\n\n\nwww.rlwilsonhouse.net\n\n\n\nWe've decked the halls and the smell of gingerbread and candy canes are wafting through the air. The candles are glowing\, lights are twinkeling\, and light is dancing off the glittery Christmas ornaments.\n\nThis is a very special event to bring your loved ones or a special group of friends to. Give your friendship and time this Holiday season by attending our Holiday Extravangza Tea. Each table is decorated with its own unique tablescape and a delicious 5 course tea will be served to you in a warm\, relaxing\, and inviting atmosphere. To complete your experience Heavenly Sweets provides delicious\, buttery desserts for the grand finale.\n\n\n\nTotal Cost is $38.95 (includes tax and gratuity)\n\n\n\nWe can accomodate gluten free and vegitarian requests with advanced notice.\n\nLimited Seating So Call Now!\n\n317-770-9399\n\n\n\nThe R.L. Wilson House is an awarded historical venue that has recieve many accrediations.\n\n**Josiah Durfee Award for historic preservation\n\n**Enterprise Award for best contruction\n\n**Community Pride Award\n\n**Listed Top Tea Experience in the State of Indiana
X-ALT-DESC;FMTTYPE=text/html:<span style="color: #ff0000"><span style="font-family: verdana"><span style="font-size: 16px"><strong>Celebrate the Holidays with Us!<br />\n<br />\n<a href="http://www.rlwilsonhouse.net">www.rlwilsonhouse.net</a></strong></span></span></span><br />\n<br />\nWe&#39\;ve decked the halls and the smell of gingerbread and candy canes are wafting through the air. The candles are glowing\, lights are twinkeling\, and light is dancing off the glittery Christmas ornaments.<br />\nThis is a very special event to bring your loved ones or a special group of friends to. Give your friendship and time this Holiday season by attending our Holiday Extravangza Tea. Each table is decorated with its own unique tablescape and a delicious 5 course tea will be served to you in a warm\, relaxing\, and inviting atmosphere. To complete your experience Heavenly Sweets provides delicious\, buttery desserts for the grand finale.<br />\n<br />\nTotal Cost is $38.95 (includes tax and gratuity)<br />\n<br />\nWe can accomodate gluten free and vegitarian requests with advanced notice.<br />\nLimited Seating So Call Now!<br />\n317-770-9399<br />\n<br />\nThe R.L. Wilson House is an awarded historical venue that has recieve many accrediations.<br />\n**Josiah Durfee Award for historic preservation<br />\n**Enterprise Award for best contruction<br />\n**Community Pride Award<br />\n**Listed Top Tea Experience in the State of Indiana
LOCATION:273 S. 8th Street Noblesville\, IN 46060
UID:e.1538.364
SEQUENCE:3
DTSTAMP:20260420T131437Z
URL:https://business.noblesvillechamber.com/events/details/holiday-extravangza-tea-364
END:VEVENT

END:VCALENDAR
