BEGIN:VCALENDAR
VERSION:2.0
PRODID:-//ChamberMaster//Event Calendar 2.0//EN
METHOD:PUBLISH
X-PUBLISHED-TTL:P3D
REFRESH-INTERVAL:P3D
CALSCALE:GREGORIAN
BEGIN:VEVENT
DTSTART:20130727T180000Z
DTEND:20130727T200000Z
X-MICROSOFT-CDO-ALLDAYEVENT:FALSE
SUMMARY:Independence Bowl
DESCRIPTION:2nd Annual Bowling Fundraiser  by the Shepherd's Center of Hamilton County to benefit the Seniors of Hamilton County.  Please call our office at (317) 674-8777 for more details!
X-ALT-DESC;FMTTYPE=text/html:2nd Annual Bowling Fundraiser&nbsp\; by the Shepherd&#39\;s Center of Hamilton&nbsp\;County&nbsp\;to benefit the Seniors of Hamilton County.&nbsp\; Please call our office at (317) 674-8777 for more details!
LOCATION:Coopers Stardust Bowl 845 Westfield Road\, Noblesville\, IN 46060
UID:e.1538.497
SEQUENCE:3
DTSTAMP:20260420T020953Z
URL:https://business.noblesvillechamber.com/events/details/independence-bowl-497
END:VEVENT

END:VCALENDAR
