BEGIN:VCALENDAR
VERSION:2.0
PRODID:-//ChamberMaster//Event Calendar 2.0//EN
METHOD:PUBLISH
X-PUBLISHED-TTL:P3D
REFRESH-INTERVAL:P3D
CALSCALE:GREGORIAN
BEGIN:VEVENT
DTSTART:20130414T150000Z
DTEND:20130414T190000Z
X-MICROSOFT-CDO-ALLDAYEVENT:FALSE
SUMMARY:Indiana Handmade Collective Exchange -- Craft Show
DESCRIPTION:Local artists around Indiana are coming to Hamilton County to sell their work to you! There will be crafters and artists alike. Items include handmade soap\, wood working items (trains\, cars\, cutting boards\, etc.)\, cheer bows\, knit and crochet work\, fabric purses\, wallets\, jewelry\, Indiana wall art\, button work\, aprons\, coasters\, photography\, stationary\, and more! There will be plenty to choose from.\n\n\n\nSupport Handmade!\n\n\n\nIf you're interested in sponsoring or being a vendor at the show send inquiry to: thecollectiveexchange@gmail.com .\n\n\n\nThank you to our sponsor Lilly's Soap Kitchen located in Fountain Square.
X-ALT-DESC;FMTTYPE=text/html:<span style="color: rgb(68\, 68\, 68)\; font-family: arial\, 'Lucida Grande'\, 'Bitstream Vera Sans'\, verdana\, sans-serif\; line-height: 14px\;">Local artists around Indiana are coming to Hamilton County to sell their work to you! There will be crafters and artists alike. Items include handmade soap\, wood working items (trains\, cars\, cutting boards\, etc.)\, cheer bows\, knit and crochet work\, fabric purses\, wallets\, jewelry\, Indiana wall art\, button work\, aprons\, coasters\, photography\, stationary\, and more! There will be plenty to choose from.</span><br style="color: rgb(68\, 68\, 68)\; font-family: arial\, 'Lucida Grande'\, 'Bitstream Vera Sans'\, verdana\, sans-serif\; line-height: 14px\;" />\n<br style="color: rgb(68\, 68\, 68)\; font-family: arial\, 'Lucida Grande'\, 'Bitstream Vera Sans'\, verdana\, sans-serif\; line-height: 14px\;" />\n<span style="color: rgb(68\, 68\, 68)\; font-family: arial\, 'Lucida Grande'\, 'Bitstream Vera Sans'\, verdana\, sans-serif\; line-height: 14px\;">Support Handmade!</span><br style="color: rgb(68\, 68\, 68)\; font-family: arial\, 'Lucida Grande'\, 'Bitstream Vera Sans'\, verdana\, sans-serif\; line-height: 14px\;" />\n<br style="color: rgb(68\, 68\, 68)\; font-family: arial\, 'Lucida Grande'\, 'Bitstream Vera Sans'\, verdana\, sans-serif\; line-height: 14px\;" />\n<span style="color: rgb(68\, 68\, 68)\; font-family: arial\, 'Lucida Grande'\, 'Bitstream Vera Sans'\, verdana\, sans-serif\; line-height: 14px\;">If you&#39\;re interested in sponsoring or being a vendor at the show send inquiry to:&nbsp\;</span><a href="mailto:thecollectiveexchange@gmail.com?body=I%20heard%20about%20this%20event%20on%20www.yelp.com!&amp\;subject=Indiana%20Handmade%20Collective%20Exchange%20--%20Craft%20Show" style="margin: 0px\; padding: 0px\; border: 0px\; vertical-align: baseline\; color: rgb(59\, 101\, 167)\; text-decoration: none\; font-family: arial\, 'Lucida Grande'\, 'Bitstream Vera Sans'\, verdana\, sans-serif\; line-height: 14px\;">thecollectiveexchange@g</a>mail.com .<br />\n<br style="color: rgb(68\, 68\, 68)\; font-family: arial\, 'Lucida Grande'\, 'Bitstream Vera Sans'\, verdana\, sans-serif\; line-height: 14px\;" />\n<span style="color: rgb(68\, 68\, 68)\; font-family: arial\, 'Lucida Grande'\, 'Bitstream Vera Sans'\, verdana\, sans-serif\; line-height: 14px\;">Thank you to our sponsor Lilly&#39\;s Soap Kitchen located in Fountain Square.</span>
LOCATION:Hamilton County 4-H Grounds 2003 Pleasant Street Noblesville\, IN 46060
UID:e.1538.409
SEQUENCE:3
DTSTAMP:20260420T070955Z
URL:https://business.noblesvillechamber.com/events/details/indiana-handmade-collective-exchange-craft-show-409
END:VEVENT

END:VCALENDAR
