BEGIN:VCALENDAR
VERSION:2.0
PRODID:-//ChamberMaster//Event Calendar 2.0//EN
METHOD:PUBLISH
X-PUBLISHED-TTL:P3D
REFRESH-INTERVAL:P3D
CALSCALE:GREGORIAN
BEGIN:VEVENT
DTSTART:20130422T130000Z
DTEND:20130427T200000Z
X-MICROSOFT-CDO-ALLDAYEVENT:FALSE
SUMMARY:INDIANA MEMBERS CREDIT UNION CELEBRATES NATIONAL CREDIT UNION YOUTH WEEK APRIL 21-27\, 2013
DESCRIPTION:Indiana Members Credit Union (IMCU)\, Central Indiana's largest credit union\, is celebrating National Credit Union Youth Week\, April 21-27\, 2013 at their Noblesville branch located at 9710 Butterfly Drive\, as well as their other 23 IMCU branches in Central Indiana.  During National Credit Union Youth Week\, America's credit unions focus on how young people earn\, spend\, save\, and manage their own money and how credit unions can help them do so intelligently.  IMCU invites children to visit their branch locations to receive a complimentary financial activity book and crayons.  Additionally\, IMCU will be offering a Cubbie Bear Bank with any new children's savings Cubbie Account opened for children 12 years of age and under during the month of April (while supplies last).   \n\n	For more information about National Credit Union Youth Week please visit any Central Indiana IMCU branch or visit IMCU online at www.imcu.org.        \n\n	Indiana Members Credit Union\, headquartered in Indianapolis\, Indiana\, was founded in 1956 as the Indiana University Medical Center Federal Credit Union on the campus of IUPUI\, and has since grown to 24 branches in Central Indiana\, offering members a better financial alternative and a full array of products and services.  Traditionally offering better rates on loans and deposits\, IMCU maintains true to its roots by "Keeping It Simple" for members.  For more information\, please visit IMCU online at www.imcu.org.
X-ALT-DESC;FMTTYPE=text/html:<p class="MsoNormal" style="margin: 0in 0in 10pt">\n	<font size="3"><font color="#000000">Indiana Members Credit Union (IMCU)\, Central Indiana&rsquo\;s largest credit union\, is celebrating National Credit Union Youth Week\, April 21-27\, 2013 at their&nbsp\;Noblesville branch located at 9710 Butterfly Drive\, as well as their other 23 IMCU branches in Central Indiana.<span style="mso-spacerun: yes">&nbsp\; </span>During National Credit Union Youth Week\, America&rsquo\;s credit unions focus on how young people earn\, spend\, save\, and manage their own money and how credit unions can help them do so intelligently.<span style="mso-spacerun: yes">&nbsp\; </span>IMCU invites children to visit their branch locations to receive a complimentary financial activity book and crayons.<span style="mso-spacerun: yes">&nbsp\; </span>Additionally\, IMCU will be offering a Cubbie Bear Bank with any new children&rsquo\;s savings Cubbie Account opened for children 12 years of age and under during the month of April (while supplies last).<span style="mso-spacerun: yes">&nbsp\;&nbsp\; </span><o:p></o:p></font></font></p>\n<p class="MsoNormal" style="margin: 0in 0in 10pt">\n	<font size="3"><font color="#000000">For more information about National Credit Union Youth Week please visit any Central Indiana IMCU branch or visit IMCU online at www.imcu.org.<span style="mso-spacerun: yes">&nbsp\;&nbsp\;&nbsp\;&nbsp\;&nbsp\;&nbsp\;&nbsp\; </span><o:p></o:p></font></font></p>\n<p class="MsoNormal" style="margin: 0in 0in 10pt">\n	<font size="3"><font color="#000000">Indiana Members Credit Union\, headquartered in Indianapolis\, Indiana\, was founded in 1956 as the Indiana University Medical Center Federal Credit Union on the campus of IUPUI\, and has since grown to 24 branches in Central Indiana\, offering members a better </font></font><font size="3"><font color="#000000">financial alternative and a full array of products and services.<span style="mso-spacerun: yes">&nbsp\; </span>Traditionally offering better rates on loans and deposits\, IMCU maintains true to its roots by &ldquo\;Keeping It Simple&rdquo\; for members.<span style="mso-spacerun: yes">&nbsp\; </span>For more information\, please visit IMCU online at www.imcu.org.<span style="mso-spacerun: yes">&nbsp\;&nbsp\; </span></font></font><o:p></o:p></p>\n
LOCATION:IMCU's Noblesville Branch\, 9710 Butterfly Drive
UID:e.1538.431
SEQUENCE:3
DTSTAMP:20260420T071206Z
URL:https://business.noblesvillechamber.com/events/details/indiana-members-credit-union-celebrates-national-credit-union-youth-week-april-21-27-2013-431
END:VEVENT

END:VCALENDAR
