BEGIN:VCALENDAR
VERSION:2.0
PRODID:-//ChamberMaster//Event Calendar 2.0//EN
METHOD:PUBLISH
X-PUBLISHED-TTL:P3D
REFRESH-INTERVAL:P3D
CALSCALE:GREGORIAN
BEGIN:VEVENT
DTSTART:20130217T170000Z
DTEND:20130217T213000Z
X-MICROSOFT-CDO-ALLDAYEVENT:FALSE
SUMMARY:INDIANA MEMBERS CREDIT UNION HOSTS 5TH ANNUAL BOWL A THON SUNDAY FEBRUARY 17\, 2013 NOON TO 4:30 PM
DESCRIPTION:Indiana Members Credit Union (IMCU)\, Central Indiana's largest credit union\, is hosting their 5th annual "Bowl-A-Thon" employee fundraising event\, at Expo Bowl in Indianapolis\, on Sunday\, February 17\, 2013\, noon to 4:30 pm.  100% of the proceeds raised will go to the Indiana Members Foundation to help children in need in the communities IMCU serves.   400 bowlers will be in attendance at the event\, filling two flights of 80 lanes.\n\n	 \n\n	Features of the day will include a special appearance by Indiana Pacers Mascot\, Boomer\, from 1:00 pm to 2:00 pm and over 90 door prizes.  Each bowler that participates will receive two games and shoes.  In addition\, a team award for "Best Decorated T-Shirt" will be awarded!  \n\n	 \n\n	The Indiana Members Foundation was founded in 2010 by Indiana Members Credit Union employees and volunteers for the purpose of being a positive influence in the community\, specifically providing school children in the Indianapolis area with the necessary essentials for learning and succeeding in their education.  "We are excited to host our annual Bowl-A-Thon event\, on behalf of the Indiana Members Foundation\, to support school children in our communities\," stated Mandy Emery\, AVP Community Relations for IMCU.  "We are blessed to receive the assistance from our employees and business partners for this cause and are pleased to announce our event is sold out\, which is tremendous."  Emery\, who also oversees Indiana Members Foundation fundraising events expressed\, "We are well on our way to meeting our 2013 fundraising goal for Indiana Members Foundation which is to raise enough funds to provide 4\,000 backpacks\, filled with supplies\, and 500 school uniforms\, belts and shoes to school children in the Indianapolis area."   \n\n	 \n\n	Ron Collier\, CEO of IMCU\, states\, "Giving back to the communities we serve is something IMCU prides itself on.  This event is something our employees look forward to every year and is another example of our commitment to our community."  \n\n	 \n\n	For more information about Indiana Members Foundation\, please visit www.imcu.org/foundation.     \n\n	 \n\n	About Indiana Members Foundation\n\n	Indiana Members Foundation was founded in 2010\, exclusively for the purpose of being a positive influence in the community served by Indiana Members Credit Union\; specifically\, providing school children in the Indianapolis area with the necessities essential for learning and succeeding in their education.  For more information\, please visit www.imcu.org/foundation.    \n\n	 \n\n	About Indiana Members Credit Union\n\n	Indiana Members Credit Union\, headquartered in Indianapolis\, Indiana\, was founded in\n\n	1956 as the Indiana University Medical Center Federal Credit Union on the campus of\n\n	IUPUI\, and has since grown to 24 branches in Central Indiana\, offering members a better \n\n	financial alternative and a full array of products and services.  Traditionally offering better rates on loans and deposits\, IMCU maintains true to its roots by "Keeping It Simple" for members.  For more information\, please visit IMCU online at www.imcu.org.
X-ALT-DESC;FMTTYPE=text/html:<p class="MsoNormal" style="margin: 0in 0in 0pt">\n	<font color="#000000"><font size="3">Indiana Members Credit Union (IMCU)\, Central Indiana&rsquo\;s largest credit union\, is hosting their 5</font><sup><font size="2">th</font></sup><font size="3"> annual &ldquo\;Bowl-A-Thon&rdquo\; employee fundraising event\, at Expo Bowl in Indianapolis\, on Sunday\, February 17\, 2013\, noon to 4:30 pm.<span style="mso-spacerun: yes">&nbsp\; </span>100% of the proceeds raised will go to the Indiana Members Foundation to help children in need in the communities IMCU serves.<span style="mso-spacerun: yes">&nbsp\; </span><span style="mso-spacerun: yes">&nbsp\;</span>400 bowlers will be in attendance at the event\, filling two flights of 80 lanes.</font></font></p>\n<p class="MsoNormal" style="margin: 0in 0in 0pt">\n	<font color="#000000" size="3">&nbsp\;</font></p>\n<p class="MsoNormal" style="margin: 0in 0in 0pt">\n	<font color="#000000"><font size="3">Features of the day will include a special appearance by Indiana Pacers Mascot\, Boomer\, from 1:00 pm to 2:00 pm and over 90 door prizes.<span style="mso-spacerun: yes">&nbsp\; </span>Each bowler that participates will receive two games and shoes.<span style="mso-spacerun: yes">&nbsp\; </span>In addition\, a team award for &ldquo\;Best Decorated T-Shirt&rdquo\; will be awarded! <span style="mso-spacerun: yes">&nbsp\;</span></font></font></p>\n<p class="MsoNormal" style="margin: 0in 0in 0pt">\n	<b style="mso-bidi-font-weight: normal"><font color="#000000"><font size="3"><span style="mso-spacerun: yes">&nbsp\;</span></font></font></b></p>\n<p class="MsoNormal" style="margin: 0in 0in 0pt">\n	<font color="#000000"><font size="3">The Indiana Members Foundation was founded in 2010 by Indiana Members Credit Union employees and volunteers for the purpose of being a positive influence in the community\, specifically providing school children in the Indianapolis area with the </font></font><font color="#000000"><font size="3">necessary essentials for learning and succeeding in their education.<span style="mso-spacerun: yes">&nbsp\; </span>&ldquo\;We are excited to host our annual Bowl-A-Thon event\, on behalf of the Indiana Members Foundation\, to support school children in our communities\,&rdquo\; stated Mandy Emery\, AVP Community Relations for IMCU.<span style="mso-spacerun: yes">&nbsp\; </span>&ldquo\;We are blessed to receive the assistance from our employees and business partners for this cause and are pleased to announce our event is sold out\, which is tremendous.&rdquo\;<span style="mso-spacerun: yes">&nbsp\; </span>Emery\, who also oversees Indiana Members Foundation fundraising events expressed\, &ldquo\;We are well on our way to meeting our 2013 fundraising goal for Indiana Members Foundation which is to raise enough funds to provide 4\,000 backpacks\, </font></font><font color="#000000"><font size="3">filled with supplies\, and 500 school uniforms\, belts and shoes to school children in the Indianapolis area.&rdquo\;<span style="mso-spacerun: yes">&nbsp\;&nbsp\; </span></font></font></p>\n<p class="MsoNormal" style="margin: 0in 0in 0pt">\n	<font color="#000000" size="3">&nbsp\;</font></p>\n<p class="MsoNormal" style="margin: 0in 0in 0pt">\n	<font color="#000000"><font size="3">Ron Collier\, CEO of IMCU\, states\, &ldquo\;Giving back to the communities we serve is something IMCU prides itself on.<span style="mso-spacerun: yes">&nbsp\; </span>This event is something our employees look forward to every year and is another example of our commitment to our community.&rdquo\;<span style="mso-spacerun: yes">&nbsp\; </span></font></font></p>\n<p class="MsoNormal" style="margin: 0in 0in 0pt">\n	<font color="#000000" size="3">&nbsp\;</font></p>\n<p class="MsoNormal" style="margin: 0in 0in 0pt">\n	<font color="#000000" size="3">For more information about Indiana Members Foundation\, please visit </font><a href="http://www.imcu.org/foundation"><font color="#0000ff" size="3">www.imcu.org/foundation</font></a><font color="#000000"><font size="3">.<span style="mso-spacerun: yes">&nbsp\;&nbsp\;&nbsp\;&nbsp\; </span></font></font></p>\n<p class="MsoNormal" style="margin: 0in 0in 0pt">\n	<font color="#000000" size="3">&nbsp\;</font></p>\n<p class="MsoNormal" style="margin: 0in 0in 0pt">\n	<b style="mso-bidi-font-weight: normal"><font color="#000000"><font size="3">About <st1:place w:st="on"><st1:state w:st="on">Indiana</st1:state></st1:place> Members Foundation</font></font></b></p>\n<p class="MsoNormal" style="margin: 0in 0in 0pt">\n	<font color="#000000" size="3">Indiana Members Foundation was founded in 2010\, exclusively for the purpose of being a positive influence in the community served by Indiana Members Credit Union\; specifically\, providing school children in the <st1:city w:st="on"><st1:place w:st="on">Indianapolis</st1:place></st1:city> area with the necessities essential for learning and succeeding in their education.<span style="mso-spacerun: yes">&nbsp\; </span>For more information\, please visit </font><a href="http://www.imcu.org/foundation"><font color="#0000ff" size="3">www.imcu.org/foundation</font></a><font color="#000000"><font size="3">.<span style="mso-spacerun: yes">&nbsp\; </span><span style="mso-spacerun: yes">&nbsp\;&nbsp\;</span></font></font></p>\n<p class="MsoNormal" style="margin: 0in 0in 0pt">\n	<font color="#000000" size="3">&nbsp\;</font></p>\n<p class="MsoNormal" style="margin: 0in 0in 0pt">\n	<b style="mso-bidi-font-weight: normal"><font color="#000000"><font size="3">About <st1:state w:st="on"><st1:place w:st="on">Indiana</st1:place></st1:state> Members Credit Union</font></font></b></p>\n<p class="MsoNormal" style="margin: 0in 0in 0pt">\n	<font color="#000000"><font size="3">Indiana Members Credit Union\, headquartered in <st1:place w:st="on"><st1:city w:st="on">Indianapolis</st1:city>\, <st1:state w:st="on">Indiana</st1:state></st1:place>\, was founded in</font></font></p>\n<p class="MsoNormal" style="margin: 0in 0in 0pt">\n	<font color="#000000"><font size="3">1956 as the Indiana University Medical Center Federal Credit Union on the campus of</font></font></p>\n<p class="MsoNormal" style="margin: 0in 0in 0pt">\n	<font color="#000000"><font size="3">IUPUI\, and has since grown to 24 branches in Central Indiana\, offering members a better </font></font></p>\n<p class="MsoNormal" style="margin: 0in 0in 0pt">\n	<font color="#000000" size="3">financial alternative and a full array of products and services.<span style="mso-spacerun: yes">&nbsp\; </span>Traditionally offering better rates on loans and deposits\, IMCU maintains true to its roots by &ldquo\;Keeping It Simple&rdquo\; for members.<span style="mso-spacerun: yes">&nbsp\; </span>For more information\, please visit IMCU online at </font><a href="http://www.imcu.org/"><font color="#0000ff" size="3">www.imcu.org</font></a><font size="3"><font color="#000000">.</font></font></p>\n<p class="MsoNormal" style="margin: 0in 0in 0pt">\n	<b style="mso-bidi-font-weight: normal"><font color="#000000" size="3">&nbsp\;</font></b></p>\n
LOCATION:IMCU's 5th Annual Bowl-A-Thon fundraising event will take place at Expo Bowl in Indianapolis\, 5261 Elmwood Avenue.
UID:e.1538.396
SEQUENCE:3
DTSTAMP:20260420T102921Z
URL:https://business.noblesvillechamber.com/events/details/indiana-members-credit-union-hosts-5th-annual-bowl-a-thon-sunday-february-17-2013-noon-to-4-30-pm-396
END:VEVENT

END:VCALENDAR
