BEGIN:VCALENDAR
VERSION:2.0
PRODID:-//ChamberMaster//Event Calendar 2.0//EN
METHOD:PUBLISH
X-PUBLISHED-TTL:P3D
REFRESH-INTERVAL:P3D
CALSCALE:GREGORIAN
BEGIN:VEVENT
DTSTART:20130927T160000Z
DTEND:20130927T180000Z
X-MICROSOFT-CDO-ALLDAYEVENT:FALSE
SUMMARY:INDIANA MEMBERS CREDIT UNION HOSTS COMMUNITY REAL ESTATE EVENT SEPTEMBER 27\, 2013
DESCRIPTION:Join Indiana Members Credit Union (IMCU)\, Central Indiana's largest credit union\, as they host a CU Realty Agent Office Hours event for the public on Friday\, September 27\, 2013 from 12 pm - 2 pm.  The event will take place at IMCU's Noblesville branch located at 9710 Butterfly Drive\, Noblesville\, 46060. \n\n\n\nIMCU has partnered with CU Realty Services\, the leader in streamlined home buying and selling\, and is hosting an in branch event with CU Realty agent\, Dave Hoyt\, Your Home Company and Shelley Nescola\, IMCU Mortgage Services.  The event focus on answering real estate questions without pressure or commitment.\n\n\n\nFor More information or to schedule a free consulation\, please contact IMCU's Mortgage Services Representative\, Shelley Nescola\, 317-814-2430\, snescola@imcu.com.
X-ALT-DESC;FMTTYPE=text/html:Join Indiana Members Credit Union (IMCU)\, Central Indiana&#39\;s largest credit union\, as they host a CU Realty Agent Office Hours event for the public on Friday\, September 27\, 2013 from 12 pm - 2 pm.&nbsp\; The event will take place at IMCU&#39\;s Noblesville branch located at 9710 Butterfly Drive\, Noblesville\, 46060.&nbsp\;<br />\n<br />\nIMCU has partnered with CU Realty Services\, the leader in streamlined home buying and selling\, and is hosting an in branch event with CU Realty agent\, Dave Hoyt\, Your Home Company and Shelley Nescola\, IMCU Mortgage Services.&nbsp\; The event focus on answering real estate questions without pressure or commitment.<br />\n<br />\nFor More information or to schedule a free consulation\, please contact IMCU&#39\;s Mortgage Services Representative\, Shelley Nescola\, 317-814-2430\, snescola@imcu.com.<br />\n<br />\n
LOCATION:IMCU's Noblesville branch located at 9710 Butterfly Drive\, Noblesville\, 46060.
UID:e.1538.521
SEQUENCE:3
DTSTAMP:20260419T231954Z
URL:https://business.noblesvillechamber.com/events/details/indiana-members-credit-union-hosts-community-real-estate-event-september-27-2013-521
END:VEVENT

END:VCALENDAR
